{"text_format":"1","workbook":"xlsx","n_sheets":4,"sheets":["申込一覧表","印刷","初期設定","DAT"],"not_rendered":{"charts":0,"images":0,"macros":1,"external_links":1,"defined_names":1,"comments":0,"pivot_tables":0},"unopened":[],"bounds":{"document_bytes":16777216,"sheet_cells":100000,"rows_first":2000,"rows_last":500,"rows_between":2000,"halvings":0,"cell_chars":16384,"cell_head_chars":4096},"cells_cut":0,"cells_raw":0,"read":"whole","date_system":"1900"}

{"sheet":"申込一覧表","index":0,"n_rows":96,"n_cols":28,"rows_kept":96,"cut":false,"hidden":false,"merged":[[0,14,0,15],[0,16,0,20],[1,1,1,2],[1,3,1,4],[1,5,1,7],[1,8,1,9],[1,10,1,11],[1,12,1,13],[1,14,1,15],[1,16,1,20],[0,1,0,2],[0,3,0,4],[0,5,0,7],[0,8,0,9],[0,10,0,11],[0,12,0,13]]}
["項目","所属コード",null,"所属名",null,"所在地",null,null,"電話",null,"携帯電話",null,"代表者名",null,"申込責任者",null,"大　　会　　名"]
["入力",{"$f":"IF(D2=\"\",\"\",VLOOKUP(D2,初期設定!G2:$J$27,4,FALSE))","v":""},null,null,null,null,null,null,null,null,null,null,null,null,null,null,"２６大学"]
[]
[]
[]
["No","氏　　名","学年","ﾌﾘｶﾞﾅ","男１・女２","生年月日","ナンバーカード","4R","16R","32R","ｺｰﾄﾞ","種目1","記録","大会","ｺｰﾄﾞ","種目2","記録","大会","ｺｰﾄﾞ","種目3","記録","大会","所属ｺｰﾄﾞ",null,"注",null,"ｺｰﾄﾞ","種目"]
[1,null,null,null,null,null,null,null,null,null,null,null,null,null,null,null,null,null,null,null,null,null,{"$f":"IF($B$2=\"\",\"\",$B$2)","v":""},{"$f":"IF(W7=\"\",\"\",VLOOKUP(W7,初期設定!$D$2:$I$27,4,FALSE))","v":""},"・","このフォームに","002","100m"]
[2,null,null,null,null,null,null,null,null,null,null,{"$f":"IF(K8=\"\",\"\",VLOOKUP(LEFT(K8,3),$AA$7:$AB$50,2,FALSE))","v":""},null,null,null,{"$f":"IF(O8=\"\",\"\",VLOOKUP(LEFT(O8,3),$AA$7:$AB$50,2,FALSE))","v":""},null,null,null,{"$f":"IF(S8=\"\",\"\",VLOOKUP(LEFT(S8,3),$AA$7:$AB$50,2,FALSE))","v":""},null,null,{"$f":"IF($B$2=\"\",\"\",$B$2)","v":""},{"$f":"IF(W8=\"\",\"\",VLOOKUP(W8,初期設定!$D$2:$I$27,4,FALSE))","v":""},null,"必要事項を入力し","003","200m"]
[3,null,null,null,null,null,null,null,null,null,null,"",null,null,null,"",null,null,null,"",null,null,"",{"$f":"IF(W9=\"\",\"\",VLOOKUP(W9,初期設定!$D$2:$I$27,4,FALSE))","v":""},null,"メールにて送付","005","400m"]
[4,null,null,null,null,null,null,null,null,null,null,"",null,null,null,"",null,null,null,"",null,null,"",{"$f":"IF(W10=\"\",\"\",VLOOKUP(W10,初期設定!$D$2:$I$27,4,FALSE))","v":""},null,"してください。","006","800m"]
[5,null,null,null,null,null,null,null,null,null,null,"",null,null,null,"",null,null,null,"",null,null,"",{"$f":"IF(W11=\"\",\"\",VLOOKUP(W11,初期設定!$D$2:$I$27,4,FALSE))","v":""},"・","種目、所属コードは","008","1500m"]
[6,null,null,null,null,null,null,null,null,null,null,"",null,null,null,"",null,null,null,"",null,null,"",{"$f":"IF(W12=\"\",\"\",VLOOKUP(W12,初期設定!$D$2:$I$27,4,FALSE))","v":""},null,"初期設定のページを","010","3000m"]
[7,null,null,null,null,null,null,null,null,null,null,"",null,null,null,"",null,null,null,"",null,null,"",{"$f":"IF(W13=\"\",\"\",VLOOKUP(W13,初期設定!$D$2:$I$27,4,FALSE))","v":""},null,"確認してください。","011","5000m"]
[8,null,null,null,null,null,null,null,null,null,null,"",null,null,null,"",null,null,null,"",null,null,"",{"$f":"IF(W14=\"\",\"\",VLOOKUP(W14,初期設定!$D$2:$I$27,4,FALSE))","v":""},"・","不明な箇所は、","012","10000m"]
[9,null,null,null,null,null,null,null,null,null,null,"",null,null,null,"",null,null,null,"",null,null,"",{"$f":"IF(W15=\"\",\"\",VLOOKUP(W15,初期設定!$D$2:$I$27,4,FALSE))","v":""},null,"空欄でも結構です。","032","110mH(中学)"]
[10,null,null,null,null,null,null,null,null,null,null,"",null,null,null,"",null,null,null,"",null,null,"",{"$f":"IF(W16=\"\",\"\",VLOOKUP(W16,初期設定!$D$2:$I$27,4,FALSE))","v":""},"・","記録は、できるだけ","033","110mH(ﾕｰｽ)"]
[11,null,null,null,null,null,null,null,null,null,null,"",null,null,null,"",null,null,null,"",null,null,"",{"$f":"IF(W17=\"\",\"\",VLOOKUP(W17,初期設定!$D$2:$I$27,4,FALSE))","v":""},null,"記入して下さい。","034","110mH"]
[12,null,null,null,null,null,null,null,null,null,null,"",null,null,null,"",null,null,null,"",null,null,"",{"$f":"IF(W18=\"\",\"\",VLOOKUP(W18,初期設定!$D$2:$I$27,4,FALSE))","v":""},null,"その場合、点や","037","400mH(男）"]
[13,null,null,null,null,null,null,null,null,null,null,"",null,null,null,"",null,null,null,"",null,null,"",{"$f":"IF(W19=\"\",\"\",VLOOKUP(W19,初期設定!$D$2:$I$27,4,FALSE))","v":""},null,"単位記号を抜いて","042","100mH(中学女子)"]
[14,null,null,null,null,null,null,null,null,null,null,"",null,null,null,"",null,null,null,"",null,null,"",{"$f":"IF(W20=\"\",\"\",VLOOKUP(W20,初期設定!$D$2:$I$27,4,FALSE))","v":""},null,"記入して下さい。","044","100mH(女)"]
[15,null,null,null,null,null,null,null,null,null,null,"",null,null,null,"",null,null,null,"",null,null,"",{"$f":"IF(W21=\"\",\"\",VLOOKUP(W21,初期設定!$D$2:$I$27,4,FALSE))","v":""},"例","5m25→00525","046","400mH(女）"]
[16,null,null,null,null,null,null,null,null,null,null,"",null,null,null,"",null,null,null,"",null,null,"",{"$f":"IF(W22=\"\",\"\",VLOOKUP(W22,初期設定!$D$2:$I$27,4,FALSE))","v":""},null,"12秒25→0001225","047","100mH(女ﾕｰｽ)"]
[17,null,null,null,null,null,null,null,null,null,null,"",null,null,null,"",null,null,null,"",null,null,"",{"$f":"IF(W23=\"\",\"\",VLOOKUP(W23,初期設定!$D$2:$I$27,4,FALSE))","v":""},null,"12分15秒23","053","3000mSC"]
[18,null,null,null,null,null,null,null,null,null,null,"",null,null,null,"",null,null,null,"",null,null,"",{"$f":"IF(W24=\"\",\"\",VLOOKUP(W24,初期設定!$D$2:$I$27,4,FALSE))","v":""},null,"　　→0121523","060","3000競歩"]
[19,null,null,null,null,null,null,null,null,null,null,"",null,null,null,"",null,null,null,"",null,null,"",{"$f":"IF(W25=\"\",\"\",VLOOKUP(W25,初期設定!$D$2:$I$27,4,FALSE))","v":""},null,"26m23→02623","061","5000競歩"]
[20,null,null,null,null,null,null,null,null,null,null,"",null,null,null,"",null,null,null,"",null,null,"",{"$f":"IF(W26=\"\",\"\",VLOOKUP(W26,初期設定!$D$2:$I$27,4,FALSE))","v":""},null,"数字は半角で","062","10000競歩"]
[21,null,null,null,null,null,null,null,null,null,null,"",null,null,null,"",null,null,null,"",null,null,"",{"$f":"IF(W27=\"\",\"\",VLOOKUP(W27,初期設定!$D$2:$I$27,4,FALSE))","v":""},null,"お願いします。","071","走高跳"]
[22,null,null,null,null,null,null,null,null,null,null,"",null,null,null,"",null,null,null,"",null,null,"",{"$f":"IF(W28=\"\",\"\",VLOOKUP(W28,初期設定!$D$2:$I$27,4,FALSE))","v":""},null,"桁は必ずそろえて","072","棒高跳"]
[23,null,null,null,null,null,null,null,null,null,null,"",null,null,null,"",null,null,null,"",null,null,"",{"$f":"IF(W29=\"\",\"\",VLOOKUP(W29,初期設定!$D$2:$I$27,4,FALSE))","v":""},null,"下さい。","073","走幅跳"]
[24,null,null,null,null,null,null,null,null,null,null,"",null,null,null,"",null,null,null,"",null,null,"",{"$f":"IF(W30=\"\",\"\",VLOOKUP(W30,初期設定!$D$2:$I$27,4,FALSE))","v":""},"・","種目コードの後ろ","074","三段跳"]
[25,null,null,null,null,null,null,null,null,null,null,"",null,null,null,"",null,null,null,"",null,null,"",{"$f":"IF(W31=\"\",\"\",VLOOKUP(W31,初期設定!$D$2:$I$27,4,FALSE))","v":""},null,"には対抗は00を記入","080","砲5k(中男)"]
[26,null,null,null,null,null,null,null,null,null,null,"",null,null,null,"",null,null,null,"",null,null,"",{"$f":"IF(W32=\"\",\"\",VLOOKUP(W32,初期設定!$D$2:$I$27,4,FALSE))","v":""},null,"して下さい。","081","砲7k(一般男)"]
[27,null,null,null,null,null,null,null,null,null,null,"",null,null,null,"",null,null,null,"",null,null,"",{"$f":"IF(W33=\"\",\"\",VLOOKUP(W33,初期設定!$D$2:$I$27,4,FALSE))","v":""},"・","OPの場合は01と記入","082","砲6k(高校男)"]
[28,null,null,null,null,null,null,null,null,null,null,"",null,null,null,"",null,null,null,"",null,null,"",{"$f":"IF(W34=\"\",\"\",VLOOKUP(W34,初期設定!$D$2:$I$27,4,FALSE))","v":""},null,"してください。","084","砲4k(女)"]
[29,null,null,null,null,null,null,null,null,null,null,"",null,null,null,"",null,null,null,"",null,null,"",{"$f":"IF(W35=\"\",\"\",VLOOKUP(W35,初期設定!$D$2:$I$27,4,FALSE))","v":""},null,"印刷ボタンを押すと","085","砲2k(中女)"]
[30,null,null,null,null,null,null,null,null,null,null,"",null,null,null,"",null,null,null,"",null,null,"",{"$f":"IF(W36=\"\",\"\",VLOOKUP(W36,初期設定!$D$2:$I$27,4,FALSE))","v":""},null,"印刷用フォームが","086","円盤2k"]
[31,null,null,null,null,null,null,null,null,null,null,"",null,null,null,"",null,null,null,"",null,null,"",{"$f":"IF(W37=\"\",\"\",VLOOKUP(W37,初期設定!$D$2:$I$27,4,FALSE))","v":""},null,"作成されますので、","087","円1.75k(高男)"]
[32,null,null,null,null,null,null,null,null,null,null,"",null,null,null,"",null,null,null,"",null,null,"",{"$f":"IF(W38=\"\",\"\",VLOOKUP(W38,初期設定!$D$2:$I$27,4,FALSE))","v":""},"・","それを印刷して","088","円1k女"]
[33,null,null,null,null,null,null,null,null,null,null,"",null,null,null,"",null,null,null,"",null,null,"",{"$f":"IF(W39=\"\",\"\",VLOOKUP(W39,初期設定!$D$2:$I$27,4,FALSE))","v":""},null,"使用してください。","089","ﾊﾝﾏｰ7k"]
[34,null,null,null,null,null,null,null,null,null,null,"",null,null,null,"",null,null,null,"",null,null,"",{"$f":"IF(W40=\"\",\"\",VLOOKUP(W40,初期設定!$D$2:$I$27,4,FALSE))","v":""},null,"リレーチームが複数","090","ﾊﾝﾏｰ6k(高男)"]
[35,null,null,null,null,null,null,null,null,null,null,"",null,null,null,"",null,null,null,"",null,null,"",{"$f":"IF(W41=\"\",\"\",VLOOKUP(W41,初期設定!$D$2:$I$27,4,FALSE))","v":""},null,"ある場合は、A,B","091","ｼﾞｬﾍﾞﾘｯｸｽﾛｰ"]
[36,null,null,null,null,null,null,null,null,null,null,"",null,null,null,"",null,null,null,"",null,null,"",{"$f":"IF(W42=\"\",\"\",VLOOKUP(W42,初期設定!$D$2:$I$27,4,FALSE))","v":""},null,"というようにチーム","092","やり男"]
[37,null,null,null,null,null,null,null,null,null,null,"",null,null,null,"",null,null,null,"",null,null,"",{"$f":"IF(W43=\"\",\"\",VLOOKUP(W43,初期設定!$D$2:$I$27,4,FALSE))","v":""},null,"が分かるようにして","093","やり女"]
[38,null,null,null,null,null,null,null,null,null,null,"",null,null,null,"",null,null,null,"",null,null,"",{"$f":"IF(W44=\"\",\"\",VLOOKUP(W44,初期設定!$D$2:$I$27,4,FALSE))","v":""},null,"下さい。","094","ﾊﾝﾏｰ4k女"]
[39,null,null,null,null,null,null,null,null,null,null,"",null,null,null,"",null,null,null,"",null,null,"",{"$f":"IF(W45=\"\",\"\",VLOOKUP(W45,初期設定!$D$2:$I$27,4,FALSE))","v":""},null,null,"095","円盤1k(中男)"]
[40,null,null,null,null,null,null,null,null,null,null,"",null,null,null,"",null,null,null,"",null,null,"",{"$f":"IF(W46=\"\",\"\",VLOOKUP(W46,初期設定!$D$2:$I$27,4,FALSE))","v":""},null,null,201,"混成10種"]
[41,null,null,null,null,null,null,null,null,null,null,"",null,null,null,"",null,null,null,"",null,null,"",{"$f":"IF(W47=\"\",\"\",VLOOKUP(W47,初期設定!$D$2:$I$27,4,FALSE))","v":""},null,null,"202","混成７種"]
[42,null,null,null,null,null,null,null,null,null,null,"",null,null,null,"",null,null,null,"",null,null,"",{"$f":"IF(W48=\"\",\"\",VLOOKUP(W48,初期設定!$D$2:$I$27,4,FALSE))","v":""},null,null,"210","混成８種"]
[43,null,null,null,null,null,null,null,null,null,null,"",null,null,null,"",null,null,null,"",null,null,"",{"$f":"IF(W49=\"\",\"\",VLOOKUP(W49,初期設定!$D$2:$I$27,4,FALSE))","v":""},null,null,213,"混成４種(中男)"]
[44,null,null,null,null,null,null,null,null,null,null,"",null,null,null,"",null,null,null,"",null,null,"",{"$f":"IF(W50=\"\",\"\",VLOOKUP(W50,初期設定!$D$2:$I$27,4,FALSE))","v":""},null,null,214,"混成４種(中女)"]
[45,null,null,null,null,null,null,null,null,null,null,"",null,null,null,"",null,null,null,"",null,null,"",{"$f":"IF(W51=\"\",\"\",VLOOKUP(W51,初期設定!$D$2:$I$27,4,FALSE))","v":""}]
[46,null,null,null,null,null,null,null,null,null,null,"",null,null,null,"",null,null,null,"",null,null,"",{"$f":"IF(W52=\"\",\"\",VLOOKUP(W52,初期設定!$D$2:$I$27,4,FALSE))","v":""}]
[47,null,null,null,null,null,null,null,null,null,null,"",null,null,null,"",null,null,null,"",null,null,"",{"$f":"IF(W53=\"\",\"\",VLOOKUP(W53,初期設定!$D$2:$I$27,4,FALSE))","v":""}]
[48,null,null,null,null,null,null,null,null,null,null,"",null,null,null,"",null,null,null,"",null,null,"",{"$f":"IF(W54=\"\",\"\",VLOOKUP(W54,初期設定!$D$2:$I$27,4,FALSE))","v":""}]
[49,null,null,null,null,null,null,null,null,null,null,"",null,null,null,"",null,null,null,"",null,null,"",{"$f":"IF(W55=\"\",\"\",VLOOKUP(W55,初期設定!$D$2:$I$27,4,FALSE))","v":""}]
[50,null,null,null,null,null,null,null,null,null,null,"",null,null,null,"",null,null,null,"",null,null,"",{"$f":"IF(W56=\"\",\"\",VLOOKUP(W56,初期設定!$D$2:$I$27,4,FALSE))","v":""}]
[51,null,null,null,null,null,null,null,null,null,null,"",null,null,null,"",null,null,null,"",null,null,"",{"$f":"IF(W57=\"\",\"\",VLOOKUP(W57,初期設定!$D$2:$I$27,4,FALSE))","v":""}]
[52,null,null,null,null,null,null,null,null,null,null,"",null,null,null,"",null,null,null,"",null,null,"",{"$f":"IF(W58=\"\",\"\",VLOOKUP(W58,初期設定!$D$2:$I$27,4,FALSE))","v":""}]
[53,null,null,null,null,null,null,null,null,null,null,"",null,null,null,"",null,null,null,"",null,null,"",{"$f":"IF(W59=\"\",\"\",VLOOKUP(W59,初期設定!$D$2:$I$27,4,FALSE))","v":""}]
[54,null,null,null,null,null,null,null,null,null,null,"",null,null,null,"",null,null,null,"",null,null,"",{"$f":"IF(W60=\"\",\"\",VLOOKUP(W60,初期設定!$D$2:$I$27,4,FALSE))","v":""}]
[55,null,null,null,null,null,null,null,null,null,null,"",null,null,null,"",null,null,null,"",null,null,"",{"$f":"IF(W61=\"\",\"\",VLOOKUP(W61,初期設定!$D$2:$I$27,4,FALSE))","v":""}]
[56,null,null,null,null,null,null,null,null,null,null,"",null,null,null,"",null,null,null,"",null,null,"",{"$f":"IF(W62=\"\",\"\",VLOOKUP(W62,初期設定!$D$2:$I$27,4,FALSE))","v":""}]
[57,null,null,null,null,null,null,null,null,null,null,"",null,null,null,"",null,null,null,"",null,null,"",{"$f":"IF(W63=\"\",\"\",VLOOKUP(W63,初期設定!$D$2:$I$27,4,FALSE))","v":""}]
[58,null,null,null,null,null,null,null,null,null,null,"",null,null,null,"",null,null,null,"",null,null,"",{"$f":"IF(W64=\"\",\"\",VLOOKUP(W64,初期設定!$D$2:$I$27,4,FALSE))","v":""}]
[59,null,null,null,null,null,null,null,null,null,null,"",null,null,null,"",null,null,null,"",null,null,"",{"$f":"IF(W65=\"\",\"\",VLOOKUP(W65,初期設定!$D$2:$I$27,4,FALSE))","v":""}]
[60,null,null,null,null,null,null,null,null,null,null,"",null,null,null,"",null,null,null,"",null,null,"",{"$f":"IF(W66=\"\",\"\",VLOOKUP(W66,初期設定!$D$2:$I$27,4,FALSE))","v":""}]
[61,null,null,null,null,null,null,null,null,null,null,"",null,null,null,"",null,null,null,"",null,null,"",{"$f":"IF(W67=\"\",\"\",VLOOKUP(W67,初期設定!$D$2:$I$27,4,FALSE))","v":""}]
[62,null,null,null,null,null,null,null,null,null,null,"",null,null,null,"",null,null,null,"",null,null,"",{"$f":"IF(W68=\"\",\"\",VLOOKUP(W68,初期設定!$D$2:$I$27,4,FALSE))","v":""}]
[63,null,null,null,null,null,null,null,null,null,null,"",null,null,null,"",null,null,null,"",null,null,"",{"$f":"IF(W69=\"\",\"\",VLOOKUP(W69,初期設定!$D$2:$I$27,4,FALSE))","v":""}]
[64,null,null,null,null,null,null,null,null,null,null,"",null,null,null,"",null,null,null,"",null,null,"",{"$f":"IF(W70=\"\",\"\",VLOOKUP(W70,初期設定!$D$2:$I$27,4,FALSE))","v":""}]
[65,null,null,null,null,null,null,null,null,null,null,"",null,null,null,"",null,null,null,"",null,null,"",{"$f":"IF(W71=\"\",\"\",VLOOKUP(W71,初期設定!$D$2:$I$27,4,FALSE))","v":""}]
[66,null,null,null,null,null,null,null,null,null,null,{"$f":"IF(K72=\"\",\"\",VLOOKUP(LEFT(K72,3),$AA$7:$AB$50,2,FALSE))","v":""},null,null,null,{"$f":"IF(O72=\"\",\"\",VLOOKUP(LEFT(O72,3),$AA$7:$AB$50,2,FALSE))","v":""},null,null,null,{"$f":"IF(S72=\"\",\"\",VLOOKUP(LEFT(S72,3),$AA$7:$AB$50,2,FALSE))","v":""},null,null,{"$f":"IF($B$2=\"\",\"\",$B$2)","v":""},{"$f":"IF(W72=\"\",\"\",VLOOKUP(W72,初期設定!$D$2:$I$27,4,FALSE))","v":""}]
[67,null,null,null,null,null,null,null,null,null,null,"",null,null,null,"",null,null,null,"",null,null,"",{"$f":"IF(W73=\"\",\"\",VLOOKUP(W73,初期設定!$D$2:$I$27,4,FALSE))","v":""}]
[68,null,null,null,null,null,null,null,null,null,null,"",null,null,null,"",null,null,null,"",null,null,"",{"$f":"IF(W74=\"\",\"\",VLOOKUP(W74,初期設定!$D$2:$I$27,4,FALSE))","v":""}]
[69,null,null,null,null,null,null,null,null,null,null,"",null,null,null,"",null,null,null,"",null,null,"",{"$f":"IF(W75=\"\",\"\",VLOOKUP(W75,初期設定!$D$2:$I$27,4,FALSE))","v":""}]
[70,null,null,null,null,null,null,null,null,null,null,"",null,null,null,"",null,null,null,"",null,null,"",{"$f":"IF(W76=\"\",\"\",VLOOKUP(W76,初期設定!$D$2:$I$27,4,FALSE))","v":""}]
[71,null,null,null,null,null,null,null,null,null,null,"",null,null,null,"",null,null,null,"",null,null,"",{"$f":"IF(W77=\"\",\"\",VLOOKUP(W77,初期設定!$D$2:$I$27,4,FALSE))","v":""}]
[72,null,null,null,null,null,null,null,null,null,null,"",null,null,null,"",null,null,null,"",null,null,"",{"$f":"IF(W78=\"\",\"\",VLOOKUP(W78,初期設定!$D$2:$I$27,4,FALSE))","v":""}]
[73,null,null,null,null,null,null,null,null,null,null,"",null,null,null,"",null,null,null,"",null,null,"",{"$f":"IF(W79=\"\",\"\",VLOOKUP(W79,初期設定!$D$2:$I$27,4,FALSE))","v":""}]
[74,null,null,null,null,null,null,null,null,null,null,"",null,null,null,"",null,null,null,"",null,null,"",{"$f":"IF(W80=\"\",\"\",VLOOKUP(W80,初期設定!$D$2:$I$27,4,FALSE))","v":""}]
[75,null,null,null,null,null,null,null,null,null,null,"",null,null,null,"",null,null,null,"",null,null,"",{"$f":"IF(W81=\"\",\"\",VLOOKUP(W81,初期設定!$D$2:$I$27,4,FALSE))","v":""}]
[76,null,null,null,null,null,null,null,null,null,null,"",null,null,null,"",null,null,null,"",null,null,"",{"$f":"IF(W82=\"\",\"\",VLOOKUP(W82,初期設定!$D$2:$I$27,4,FALSE))","v":""}]
[77,null,null,null,null,null,null,null,null,null,null,"",null,null,null,"",null,null,null,"",null,null,"",{"$f":"IF(W83=\"\",\"\",VLOOKUP(W83,初期設定!$D$2:$I$27,4,FALSE))","v":""}]
[78,null,null,null,null,null,null,null,null,null,null,"",null,null,null,"",null,null,null,"",null,null,"",{"$f":"IF(W84=\"\",\"\",VLOOKUP(W84,初期設定!$D$2:$I$27,4,FALSE))","v":""}]
[79,null,null,null,null,null,null,null,null,null,null,"",null,null,null,"",null,null,null,"",null,null,"",{"$f":"IF(W85=\"\",\"\",VLOOKUP(W85,初期設定!$D$2:$I$27,4,FALSE))","v":""}]
[80,null,null,null,null,null,null,null,null,null,null,"",null,null,null,"",null,null,null,"",null,null,"",{"$f":"IF(W86=\"\",\"\",VLOOKUP(W86,初期設定!$D$2:$I$27,4,FALSE))","v":""}]
[81,null,null,null,null,null,null,null,null,null,null,"",null,null,null,"",null,null,null,"",null,null,"",{"$f":"IF(W87=\"\",\"\",VLOOKUP(W87,初期設定!$D$2:$I$27,4,FALSE))","v":""}]
[82,null,null,null,null,null,null,null,null,null,null,"",null,null,null,"",null,null,null,"",null,null,"",{"$f":"IF(W88=\"\",\"\",VLOOKUP(W88,初期設定!$D$2:$I$27,4,FALSE))","v":""}]
[83,null,null,null,null,null,null,null,null,null,null,"",null,null,null,"",null,null,null,"",null,null,"",{"$f":"IF(W89=\"\",\"\",VLOOKUP(W89,初期設定!$D$2:$I$27,4,FALSE))","v":""}]
[84,null,null,null,null,null,null,null,null,null,null,"",null,null,null,"",null,null,null,"",null,null,"",{"$f":"IF(W90=\"\",\"\",VLOOKUP(W90,初期設定!$D$2:$I$27,4,FALSE))","v":""}]
[85,null,null,null,null,null,null,null,null,null,null,"",null,null,null,"",null,null,null,"",null,null,"",{"$f":"IF(W91=\"\",\"\",VLOOKUP(W91,初期設定!$D$2:$I$27,4,FALSE))","v":""}]
[86,null,null,null,null,null,null,null,null,null,null,"",null,null,null,"",null,null,null,"",null,null,"",{"$f":"IF(W92=\"\",\"\",VLOOKUP(W92,初期設定!$D$2:$I$27,4,FALSE))","v":""}]
[87,null,null,null,null,null,null,null,null,null,null,"",null,null,null,"",null,null,null,"",null,null,"",{"$f":"IF(W93=\"\",\"\",VLOOKUP(W93,初期設定!$D$2:$I$27,4,FALSE))","v":""}]
[88,null,null,null,null,null,null,null,null,null,null,"",null,null,null,"",null,null,null,"",null,null,"",{"$f":"IF(W94=\"\",\"\",VLOOKUP(W94,初期設定!$D$2:$I$27,4,FALSE))","v":""}]
[89,null,null,null,null,null,null,null,null,null,null,"",null,null,null,"",null,null,null,"",null,null,"",{"$f":"IF(W95=\"\",\"\",VLOOKUP(W95,初期設定!$D$2:$I$27,4,FALSE))","v":""}]
[90,null,null,null,null,null,null,null,null,null,null,"",null,null,null,"",null,null,null,"",null,null,"",{"$f":"IF(W96=\"\",\"\",VLOOKUP(W96,初期設定!$D$2:$I$27,4,FALSE))","v":""}]

{"sheet":"印刷","index":1,"n_rows":39,"n_cols":22,"rows_kept":39,"cut":false,"hidden":false,"merged":[[3,10,3,13],[3,14,3,17],[3,18,3,21],[2,13,2,15],[2,9,2,11],[0,9,0,15],[2,2,2,6],[1,2,1,6],[0,2,0,6],[2,18,2,20],[1,18,1,20]]}
[null,"所属ｺｰﾄﾞ",{"$f":"申込一覧表!B2","v":""},null,null,null,null,null,"大会名",{"$f":"申込一覧表!Q2","v":"２６大学"},null,null,null,null,null,null,"大会申込一覧表（Ａ）",null,null,null,null,"NO.1"]
[null,"所属名",{"$f":"申込一覧表!D2","v":0},null,null,null,null,null,null,null,null,null,null,null,null,null,"代表者名",null,{"$f":"申込一覧表!M2","v":0},null,null,"印"]
[null,"所在地",{"$f":"申込一覧表!F2","v":0},null,null,null,null,null,"電話",{"$f":"申込一覧表!I2","v":0},null,null,"携帯電話",{"$f":"申込一覧表!K2","v":0},null,null,"申込責任者",null,{"$f":"申込一覧表!O2","v":0}]
[null,null,null,null,null,null,null,"４R","16R","32R","１種目",null,null,null,"２種目",null,null,null,"３種目"]
[null,"氏　　名","学","ﾌﾘｶﾞﾅ","性","生年月日","Zken","記録","記録","記録","ｺｰﾄﾞ","種目1","記録","大会","ｺｰﾄﾞ","種目2","記録","大会","ｺｰﾄﾞ","種目3","記録","大会"]
[61,null,null,null,null,null,null,null,null,null,null,"",null,null,null,"",null,null,null,""]
[62,null,null,null,null,null,null,null,null,null,null,"",null,null,null,"",null,null,null,""]
[63,null,null,null,null,null,null,null,null,null,null,"",null,null,null,"",null,null,null,""]
[64,null,null,null,null,null,null,null,null,null,null,"",null,null,null,"",null,null,null,""]
[65,null,null,null,null,null,null,null,null,null,null,"",null,null,null,"",null,null,null,""]
[66,null,null,null,null,null,null,null,null,null,null,"",null,null,null,"",null,null,null,""]
[67,null,null,null,null,null,null,null,null,null,null,"",null,null,null,"",null,null,null,""]
[68,null,null,null,null,null,null,null,null,null,null,"",null,null,null,"",null,null,null,""]
[69,null,null,null,null,null,null,null,null,null,null,"",null,null,null,"",null,null,null,""]
[70,null,null,null,null,null,null,null,null,null,null,"",null,null,null,"",null,null,null,""]
[71,null,null,null,null,null,null,null,null,null,null,"",null,null,null,"",null,null,null,""]
[72,null,null,null,null,null,null,null,null,null,null,"",null,null,null,"",null,null,null,""]
[73,null,null,null,null,null,null,null,null,null,null,"",null,null,null,"",null,null,null,""]
[74,null,null,null,null,null,null,null,null,null,null,"",null,null,null,"",null,null,null,""]
[75,null,null,null,null,null,null,null,null,null,null,"",null,null,null,"",null,null,null,""]
[76,null,null,null,null,null,null,null,null,null,null,"",null,null,null,"",null,null,null,""]
[77,null,null,null,null,null,null,null,null,null,null,"",null,null,null,"",null,null,null,""]
[78,null,null,null,null,null,null,null,null,null,null,"",null,null,null,"",null,null,null,""]
[79,null,null,null,null,null,null,null,null,null,null,"",null,null,null,"",null,null,null,""]
[80,null,null,null,null,null,null,null,null,null,null,"",null,null,null,"",null,null,null,""]
[81,null,null,null,null,null,null,null,null,null,null,"",null,null,null,"",null,null,null,""]
[82,null,null,null,null,null,null,null,null,null,null,"",null,null,null,"",null,null,null,""]
[83,null,null,null,null,null,null,null,null,null,null,"",null,null,null,"",null,null,null,""]
[84,null,null,null,null,null,null,null,null,null,null,"",null,null,null,"",null,null,null,""]
[85,null,null,null,null,null,null,null,null,null,null,"",null,null,null,"",null,null,null,""]
[86,null,null,null,null,null,null,null,null,null,null,"",null,null,null,"",null,null,null,""]
[87,null,null,null,null,null,null,null,null,null,null,"",null,null,null,"",null,null,null,""]
[88,null,null,null,null,null,null,null,null,null,null,"",null,null,null,"",null,null,null,""]
[89,null,null,null,null,null,null,null,null,null,null,"",null,null,null,"",null,null,null,""]
[90,null,null,null,null,null,null,null,null,null,null,"",null,null,null,"",null,null,null,""]
[null,null,null,null,null,null,null,null,null,null,"個人申込種目数",null,null,null,{"$f":"COUNTA(申込一覧表!K7:K96)+COUNTA(申込一覧表!O7:O96)+COUNTA(申込一覧表!S7:S96)","v":0},"種目"]
["　　申込人員",null,{"$f":"COUNTA(申込一覧表!B7:B96)","v":0},"人",null,null,null,null,null,null,"リレー申込数",null,null,null,null,"種目","　　申込料金",null,null,null,null,"円"]
[]
[null,null,null,null,null,null,null,null,null,null,null,null,null,null,null,null,null,null,null,"群馬陸上競技協会"]

{"sheet":"初期設定","index":2,"n_rows":46,"n_cols":10,"rows_kept":46,"cut":false,"hidden":false,"merged":[]}
["ｺｰﾄﾞ","種目",null,"DB","N1","N2","N3","KC"]
["002","100m",null,40001,"ﾄｳﾎｸﾀﾞｲ","東北大","東北大学","04","宮城",{"$f":"D2","v":40001}]
["003","200m",null,60002,"ﾔﾏｶﾞﾀﾀﾞｲ","山形大","山形大学",6,"山形",{"$f":"D3","v":60002}]
["005","400m",null,70003,"ﾌｸｼﾏﾀﾞｲ","福島大","福島大学",7,"福島",70003]
["006","800m",null,80004,"ｲﾊﾞﾗｷﾀﾞｲ","茨城大","茨城大学",8,"茨城",80004]
["008","1500m",null,90005,"ｳﾂﾉﾐﾔﾀﾞｲ","宇都宮大","宇都宮大",9,"栃木",90005]
["010","3000m",null,100006,"ｸﾞﾝﾏﾀﾞｲ","群馬大","群馬大",10,"群　馬",100006]
["011","5000m",null,100007,"ﾀｶｹﾀﾞｲ","高経大","高崎経済大",10,"群　馬",100007]
["012","10000m",null,110008,"ｻｲﾀﾏﾀﾞｲ","埼玉大","埼玉大学",11,"埼玉",110008]
["032","110mH(中学)",null,120009,"ﾁﾊﾞﾀﾞｲ","千葉大","千葉大学",12,"千葉",120009]
["033","110mH(ﾕｰｽ)",null,130010,"ｼｭﾄﾀﾞｲ","首都大","首都大学東京",13,"東京",130010]
["034","110mH",null,130011,"ﾄｳｷｮｳﾉｳｺｳﾀﾞｲ","東京農工大","東京農工大学",13,"東京",130011]
["037","400mH(男）",null,130012,"ﾄｳｷｮｳｶﾞｸｹﾞｲﾀﾞｲ","東京学芸大","東京学芸大学",13,"東京",130012]
["042","100mH(中学女子)",null,130013,"ﾄｳｷｮｳｶﾞｲｺﾞﾀﾞｲ","東京外語大","東京外国語大学",13,"東京",130013]
["044","100mH(女)",null,130014,"ﾋﾄﾂﾊﾞｼﾀﾞｲ","一橋大","一橋大学",13,"東京",130014]
["046","400mH(女）",null,130015,"ﾄｳｺｳﾀﾞｲ","東工大","東京工業大学",13,"東京",130015]
["047","100mH(女ﾕｰｽ)",null,130016,"ﾃﾞﾝｷﾂｳｼﾝﾀﾞｲ","電気通信大","電気通信大学",13,"東京",130016]
["053","3000mSC",null,140017,"ﾖｺﾊﾏｺｸﾘﾂﾀﾞｲ","横浜国立大","横浜国立大学",14,"神奈川",140017]
["060","3000競歩",null,140018,"ﾖｺﾊﾏｲﾁﾘﾂﾀﾞｲ","横浜市立大","横浜市立大学",14,"神奈川",140018]
["061","5000競歩",null,150019,"ﾆｲｶﾞﾀﾀﾞｲ","新潟大","新潟大学",15,"新潟",150019]
["062","10000競歩",null,170020,"ｶﾅｻﾞﾜﾀﾞｲ","金沢大","金沢大学",17,"石川",170020]
["071","走高跳",null,190021,"ﾔﾏﾅｼﾀﾞｲ","山梨大","山梨大学",19,"山梨",190021]
["072","棒高跳",null,190022,"ﾂﾙﾌﾞﾝｶﾀﾞｲ","都留文科大","都留文科大学",19,"山梨",190022]
["073","走幅跳",null,200023,"ｼﾝｼｭｳﾀﾞｲ","信州大","信州大学",20,"長野",200023]
["074","三段跳",null,220024,"ｼｽﾞｵｶﾀﾞｲ","静岡大","静岡大学",22,"静岡",220024]
["080","砲5k(中男)",null,220025,"ｼｽﾞｵｶｹﾝﾘﾂﾀﾞｲ","静岡県立大","静岡県立大学",22,"静岡",220025]
["081","砲7k(一般男)",null,240026,"ﾐｴﾀﾞｲ","三重大","三重大学",24,"三重",240026]
["082","砲6k(高校男)"]
["084","砲4k(女)"]
["085","砲2k(中女)"]
["086","円盤2k"]
["087","円1.75k(高男)"]
["088","円1k女"]
["089","ﾊﾝﾏｰ7k"]
["090","ﾊﾝﾏｰ6k(高男)"]
["091","ｼﾞｬﾍﾞﾘｯｸｽﾛｰ"]
["092","やり男"]
["093","やり女"]
["094","ﾊﾝﾏｰ4k女"]
["095","円盤1k(中男)"]
["201","混成10種"]
["202","混成７種"]
["210","混成８種"]
["213","混成４種(中男)"]
["214","混成４種(中女)"]
["999","ｴﾗｰ"]

{"sheet":"DAT","index":3,"n_rows":92,"n_cols":14,"rows_kept":92,"cut":false,"hidden":false,"merged":[]}
["DB","N1","N2","SX","KC","MC","ZK","S1","S2","S3",null,"4R","16R","32R"]
[null,{"$f":"IF(申込一覧表!B7=\"\",\"\",IF(申込一覧表!C7=\"\",申込一覧表!B7,申込一覧表!B7&\"(\"&申込一覧表!C7&\")\"))","v":""},{"$f":"IF(申込一覧表!D7=\"\",\"\",申込一覧表!D7)","v":""},{"$f":"IF(申込一覧表!E7=\"\",\"\",申込一覧表!E7)","v":""},10,{"$f":"IF(申込一覧表!W7=\"\",\"\",申込一覧表!W7)","v":""},{"$f":"IF(申込一覧表!G7=\"\",\"\",申込一覧表!G7)","v":""},{"$f":"IF(申込一覧表!K7=\"\",\"\",申込一覧表!K7&\" \"&申込一覧表!M7)","v":""},{"$f":"IF(申込一覧表!O7=\"\",\"\",申込一覧表!O7&\" \"&申込一覧表!Q7)","v":""},{"$f":"IF(申込一覧表!S7=\"\",\"\",申込一覧表!S7&\" \"&申込一覧表!U7)","v":""},null,{"$f":"IF(申込一覧表!H7=\"\",\"\",\"0\"&申込一覧表!H7)","v":""},{"$f":"IF(申込一覧表!I7=\"\",\"\",申込一覧表!I7)","v":""},{"$f":"IF(申込一覧表!J7=\"\",\"\",申込一覧表!J7)","v":""}]
[null,{"$f":"IF(申込一覧表!B8=\"\",\"\",IF(申込一覧表!C8=\"\",申込一覧表!B8,申込一覧表!B8&\"(\"&申込一覧表!C8&\")\"))","v":""},{"$f":"IF(申込一覧表!D8=\"\",\"\",申込一覧表!D8)","v":""},{"$f":"IF(申込一覧表!E8=\"\",\"\",申込一覧表!E8)","v":""},10,{"$f":"IF(申込一覧表!W8=\"\",\"\",申込一覧表!W8)","v":""},{"$f":"IF(申込一覧表!G8=\"\",\"\",申込一覧表!G8)","v":""},{"$f":"IF(申込一覧表!K8=\"\",\"\",申込一覧表!K8&\" \"&申込一覧表!M8)","v":""},{"$f":"IF(申込一覧表!O8=\"\",\"\",申込一覧表!O8&\" \"&申込一覧表!Q8)","v":""},{"$f":"IF(申込一覧表!S8=\"\",\"\",申込一覧表!S8&\" \"&申込一覧表!U8)","v":""},null,{"$f":"IF(申込一覧表!H8=\"\",\"\",\"0\"&申込一覧表!H8)","v":""},{"$f":"IF(申込一覧表!I8=\"\",\"\",申込一覧表!I8)","v":""},{"$f":"IF(申込一覧表!J8=\"\",\"\",申込一覧表!J8)","v":""}]
[null,{"$f":"IF(申込一覧表!B9=\"\",\"\",IF(申込一覧表!C9=\"\",申込一覧表!B9,申込一覧表!B9&\"(\"&申込一覧表!C9&\")\"))","v":""},{"$f":"IF(申込一覧表!D9=\"\",\"\",申込一覧表!D9)","v":""},{"$f":"IF(申込一覧表!E9=\"\",\"\",申込一覧表!E9)","v":""},10,{"$f":"IF(申込一覧表!W9=\"\",\"\",申込一覧表!W9)","v":""},{"$f":"IF(申込一覧表!G9=\"\",\"\",申込一覧表!G9)","v":""},{"$f":"IF(申込一覧表!K9=\"\",\"\",申込一覧表!K9&\" \"&申込一覧表!M9)","v":""},{"$f":"IF(申込一覧表!O9=\"\",\"\",申込一覧表!O9&\" \"&申込一覧表!Q9)","v":""},{"$f":"IF(申込一覧表!S9=\"\",\"\",申込一覧表!S9&\" \"&申込一覧表!U9)","v":""},null,{"$f":"IF(申込一覧表!H9=\"\",\"\",\"0\"&申込一覧表!H9)","v":""},{"$f":"IF(申込一覧表!I9=\"\",\"\",申込一覧表!I9)","v":""},{"$f":"IF(申込一覧表!J9=\"\",\"\",申込一覧表!J9)","v":""}]
[null,{"$f":"IF(申込一覧表!B10=\"\",\"\",IF(申込一覧表!C10=\"\",申込一覧表!B10,申込一覧表!B10&\"(\"&申込一覧表!C10&\")\"))","v":""},{"$f":"IF(申込一覧表!D10=\"\",\"\",申込一覧表!D10)","v":""},{"$f":"IF(申込一覧表!E10=\"\",\"\",申込一覧表!E10)","v":""},10,{"$f":"IF(申込一覧表!W10=\"\",\"\",申込一覧表!W10)","v":""},{"$f":"IF(申込一覧表!G10=\"\",\"\",申込一覧表!G10)","v":""},{"$f":"IF(申込一覧表!K10=\"\",\"\",申込一覧表!K10&\" \"&申込一覧表!M10)","v":""},{"$f":"IF(申込一覧表!O10=\"\",\"\",申込一覧表!O10&\" \"&申込一覧表!Q10)","v":""},{"$f":"IF(申込一覧表!S10=\"\",\"\",申込一覧表!S10&\" \"&申込一覧表!U10)","v":""},null,{"$f":"IF(申込一覧表!H10=\"\",\"\",\"0\"&申込一覧表!H10)","v":""},{"$f":"IF(申込一覧表!I10=\"\",\"\",申込一覧表!I10)","v":""},{"$f":"IF(申込一覧表!J10=\"\",\"\",申込一覧表!J10)","v":""}]
[null,{"$f":"IF(申込一覧表!B11=\"\",\"\",IF(申込一覧表!C11=\"\",申込一覧表!B11,申込一覧表!B11&\"(\"&申込一覧表!C11&\")\"))","v":""},{"$f":"IF(申込一覧表!D11=\"\",\"\",申込一覧表!D11)","v":""},{"$f":"IF(申込一覧表!E11=\"\",\"\",申込一覧表!E11)","v":""},10,{"$f":"IF(申込一覧表!W11=\"\",\"\",申込一覧表!W11)","v":""},{"$f":"IF(申込一覧表!G11=\"\",\"\",申込一覧表!G11)","v":""},{"$f":"IF(申込一覧表!K11=\"\",\"\",申込一覧表!K11&\" \"&申込一覧表!M11)","v":""},{"$f":"IF(申込一覧表!O11=\"\",\"\",申込一覧表!O11&\" \"&申込一覧表!Q11)","v":""},{"$f":"IF(申込一覧表!S11=\"\",\"\",申込一覧表!S11&\" \"&申込一覧表!U11)","v":""},null,{"$f":"IF(申込一覧表!H11=\"\",\"\",\"0\"&申込一覧表!H11)","v":""},{"$f":"IF(申込一覧表!I11=\"\",\"\",申込一覧表!I11)","v":""},{"$f":"IF(申込一覧表!J11=\"\",\"\",申込一覧表!J11)","v":""}]
[null,{"$f":"IF(申込一覧表!B12=\"\",\"\",IF(申込一覧表!C12=\"\",申込一覧表!B12,申込一覧表!B12&\"(\"&申込一覧表!C12&\")\"))","v":""},{"$f":"IF(申込一覧表!D12=\"\",\"\",申込一覧表!D12)","v":""},{"$f":"IF(申込一覧表!E12=\"\",\"\",申込一覧表!E12)","v":""},10,{"$f":"IF(申込一覧表!W12=\"\",\"\",申込一覧表!W12)","v":""},{"$f":"IF(申込一覧表!G12=\"\",\"\",申込一覧表!G12)","v":""},{"$f":"IF(申込一覧表!K12=\"\",\"\",申込一覧表!K12&\" \"&申込一覧表!M12)","v":""},{"$f":"IF(申込一覧表!O12=\"\",\"\",申込一覧表!O12&\" \"&申込一覧表!Q12)","v":""},{"$f":"IF(申込一覧表!S12=\"\",\"\",申込一覧表!S12&\" \"&申込一覧表!U12)","v":""},null,{"$f":"IF(申込一覧表!H12=\"\",\"\",\"0\"&申込一覧表!H12)","v":""},{"$f":"IF(申込一覧表!I12=\"\",\"\",申込一覧表!I12)","v":""},{"$f":"IF(申込一覧表!J12=\"\",\"\",申込一覧表!J12)","v":""}]
[null,{"$f":"IF(申込一覧表!B13=\"\",\"\",IF(申込一覧表!C13=\"\",申込一覧表!B13,申込一覧表!B13&\"(\"&申込一覧表!C13&\")\"))","v":""},{"$f":"IF(申込一覧表!D13=\"\",\"\",申込一覧表!D13)","v":""},{"$f":"IF(申込一覧表!E13=\"\",\"\",申込一覧表!E13)","v":""},10,{"$f":"IF(申込一覧表!W13=\"\",\"\",申込一覧表!W13)","v":""},{"$f":"IF(申込一覧表!G13=\"\",\"\",申込一覧表!G13)","v":""},{"$f":"IF(申込一覧表!K13=\"\",\"\",申込一覧表!K13&\" \"&申込一覧表!M13)","v":""},{"$f":"IF(申込一覧表!O13=\"\",\"\",申込一覧表!O13&\" \"&申込一覧表!Q13)","v":""},{"$f":"IF(申込一覧表!S13=\"\",\"\",申込一覧表!S13&\" \"&申込一覧表!U13)","v":""},null,{"$f":"IF(申込一覧表!H13=\"\",\"\",\"0\"&申込一覧表!H13)","v":""},{"$f":"IF(申込一覧表!I13=\"\",\"\",申込一覧表!I13)","v":""},{"$f":"IF(申込一覧表!J13=\"\",\"\",申込一覧表!J13)","v":""}]
[null,{"$f":"IF(申込一覧表!B14=\"\",\"\",IF(申込一覧表!C14=\"\",申込一覧表!B14,申込一覧表!B14&\"(\"&申込一覧表!C14&\")\"))","v":""},{"$f":"IF(申込一覧表!D14=\"\",\"\",申込一覧表!D14)","v":""},{"$f":"IF(申込一覧表!E14=\"\",\"\",申込一覧表!E14)","v":""},10,{"$f":"IF(申込一覧表!W14=\"\",\"\",申込一覧表!W14)","v":""},{"$f":"IF(申込一覧表!G14=\"\",\"\",申込一覧表!G14)","v":""},{"$f":"IF(申込一覧表!K14=\"\",\"\",申込一覧表!K14&\" \"&申込一覧表!M14)","v":""},{"$f":"IF(申込一覧表!O14=\"\",\"\",申込一覧表!O14&\" \"&申込一覧表!Q14)","v":""},{"$f":"IF(申込一覧表!S14=\"\",\"\",申込一覧表!S14&\" \"&申込一覧表!U14)","v":""},null,{"$f":"IF(申込一覧表!H14=\"\",\"\",\"0\"&申込一覧表!H14)","v":""},{"$f":"IF(申込一覧表!I14=\"\",\"\",申込一覧表!I14)","v":""},{"$f":"IF(申込一覧表!J14=\"\",\"\",申込一覧表!J14)","v":""}]
[null,{"$f":"IF(申込一覧表!B15=\"\",\"\",IF(申込一覧表!C15=\"\",申込一覧表!B15,申込一覧表!B15&\"(\"&申込一覧表!C15&\")\"))","v":""},{"$f":"IF(申込一覧表!D15=\"\",\"\",申込一覧表!D15)","v":""},{"$f":"IF(申込一覧表!E15=\"\",\"\",申込一覧表!E15)","v":""},10,{"$f":"IF(申込一覧表!W15=\"\",\"\",申込一覧表!W15)","v":""},{"$f":"IF(申込一覧表!G15=\"\",\"\",申込一覧表!G15)","v":""},{"$f":"IF(申込一覧表!K15=\"\",\"\",申込一覧表!K15&\" \"&申込一覧表!M15)","v":""},{"$f":"IF(申込一覧表!O15=\"\",\"\",申込一覧表!O15&\" \"&申込一覧表!Q15)","v":""},{"$f":"IF(申込一覧表!S15=\"\",\"\",申込一覧表!S15&\" \"&申込一覧表!U15)","v":""},null,{"$f":"IF(申込一覧表!H15=\"\",\"\",\"0\"&申込一覧表!H15)","v":""},{"$f":"IF(申込一覧表!I15=\"\",\"\",申込一覧表!I15)","v":""},{"$f":"IF(申込一覧表!J15=\"\",\"\",申込一覧表!J15)","v":""}]
[null,{"$f":"IF(申込一覧表!B16=\"\",\"\",IF(申込一覧表!C16=\"\",申込一覧表!B16,申込一覧表!B16&\"(\"&申込一覧表!C16&\")\"))","v":""},{"$f":"IF(申込一覧表!D16=\"\",\"\",申込一覧表!D16)","v":""},{"$f":"IF(申込一覧表!E16=\"\",\"\",申込一覧表!E16)","v":""},10,{"$f":"IF(申込一覧表!W16=\"\",\"\",申込一覧表!W16)","v":""},{"$f":"IF(申込一覧表!G16=\"\",\"\",申込一覧表!G16)","v":""},{"$f":"IF(申込一覧表!K16=\"\",\"\",申込一覧表!K16&\" \"&申込一覧表!M16)","v":""},{"$f":"IF(申込一覧表!O16=\"\",\"\",申込一覧表!O16&\" \"&申込一覧表!Q16)","v":""},{"$f":"IF(申込一覧表!S16=\"\",\"\",申込一覧表!S16&\" \"&申込一覧表!U16)","v":""},null,{"$f":"IF(申込一覧表!H16=\"\",\"\",\"0\"&申込一覧表!H16)","v":""},{"$f":"IF(申込一覧表!I16=\"\",\"\",申込一覧表!I16)","v":""},{"$f":"IF(申込一覧表!J16=\"\",\"\",申込一覧表!J16)","v":""}]
[null,{"$f":"IF(申込一覧表!B17=\"\",\"\",IF(申込一覧表!C17=\"\",申込一覧表!B17,申込一覧表!B17&\"(\"&申込一覧表!C17&\")\"))","v":""},{"$f":"IF(申込一覧表!D17=\"\",\"\",申込一覧表!D17)","v":""},{"$f":"IF(申込一覧表!E17=\"\",\"\",申込一覧表!E17)","v":""},10,{"$f":"IF(申込一覧表!W17=\"\",\"\",申込一覧表!W17)","v":""},{"$f":"IF(申込一覧表!G17=\"\",\"\",申込一覧表!G17)","v":""},{"$f":"IF(申込一覧表!K17=\"\",\"\",申込一覧表!K17&\" \"&申込一覧表!M17)","v":""},{"$f":"IF(申込一覧表!O17=\"\",\"\",申込一覧表!O17&\" \"&申込一覧表!Q17)","v":""},{"$f":"IF(申込一覧表!S17=\"\",\"\",申込一覧表!S17&\" \"&申込一覧表!U17)","v":""},null,{"$f":"IF(申込一覧表!H17=\"\",\"\",\"0\"&申込一覧表!H17)","v":""},{"$f":"IF(申込一覧表!I17=\"\",\"\",申込一覧表!I17)","v":""},{"$f":"IF(申込一覧表!J17=\"\",\"\",申込一覧表!J17)","v":""}]
[null,{"$f":"IF(申込一覧表!B18=\"\",\"\",IF(申込一覧表!C18=\"\",申込一覧表!B18,申込一覧表!B18&\"(\"&申込一覧表!C18&\")\"))","v":""},{"$f":"IF(申込一覧表!D18=\"\",\"\",申込一覧表!D18)","v":""},{"$f":"IF(申込一覧表!E18=\"\",\"\",申込一覧表!E18)","v":""},10,{"$f":"IF(申込一覧表!W18=\"\",\"\",申込一覧表!W18)","v":""},{"$f":"IF(申込一覧表!G18=\"\",\"\",申込一覧表!G18)","v":""},{"$f":"IF(申込一覧表!K18=\"\",\"\",申込一覧表!K18&\" \"&申込一覧表!M18)","v":""},{"$f":"IF(申込一覧表!O18=\"\",\"\",申込一覧表!O18&\" \"&申込一覧表!Q18)","v":""},{"$f":"IF(申込一覧表!S18=\"\",\"\",申込一覧表!S18&\" \"&申込一覧表!U18)","v":""},null,{"$f":"IF(申込一覧表!H18=\"\",\"\",\"0\"&申込一覧表!H18)","v":""},{"$f":"IF(申込一覧表!I18=\"\",\"\",申込一覧表!I18)","v":""},{"$f":"IF(申込一覧表!J18=\"\",\"\",申込一覧表!J18)","v":""}]
[null,{"$f":"IF(申込一覧表!B19=\"\",\"\",IF(申込一覧表!C19=\"\",申込一覧表!B19,申込一覧表!B19&\"(\"&申込一覧表!C19&\")\"))","v":""},{"$f":"IF(申込一覧表!D19=\"\",\"\",申込一覧表!D19)","v":""},{"$f":"IF(申込一覧表!E19=\"\",\"\",申込一覧表!E19)","v":""},10,{"$f":"IF(申込一覧表!W19=\"\",\"\",申込一覧表!W19)","v":""},{"$f":"IF(申込一覧表!G19=\"\",\"\",申込一覧表!G19)","v":""},{"$f":"IF(申込一覧表!K19=\"\",\"\",申込一覧表!K19&\" \"&申込一覧表!M19)","v":""},{"$f":"IF(申込一覧表!O19=\"\",\"\",申込一覧表!O19&\" \"&申込一覧表!Q19)","v":""},{"$f":"IF(申込一覧表!S19=\"\",\"\",申込一覧表!S19&\" \"&申込一覧表!U19)","v":""},null,{"$f":"IF(申込一覧表!H19=\"\",\"\",\"0\"&申込一覧表!H19)","v":""},{"$f":"IF(申込一覧表!I19=\"\",\"\",申込一覧表!I19)","v":""},{"$f":"IF(申込一覧表!J19=\"\",\"\",申込一覧表!J19)","v":""}]
[null,{"$f":"IF(申込一覧表!B20=\"\",\"\",IF(申込一覧表!C20=\"\",申込一覧表!B20,申込一覧表!B20&\"(\"&申込一覧表!C20&\")\"))","v":""},{"$f":"IF(申込一覧表!D20=\"\",\"\",申込一覧表!D20)","v":""},{"$f":"IF(申込一覧表!E20=\"\",\"\",申込一覧表!E20)","v":""},10,{"$f":"IF(申込一覧表!W20=\"\",\"\",申込一覧表!W20)","v":""},{"$f":"IF(申込一覧表!G20=\"\",\"\",申込一覧表!G20)","v":""},{"$f":"IF(申込一覧表!K20=\"\",\"\",申込一覧表!K20&\" \"&申込一覧表!M20)","v":""},{"$f":"IF(申込一覧表!O20=\"\",\"\",申込一覧表!O20&\" \"&申込一覧表!Q20)","v":""},{"$f":"IF(申込一覧表!S20=\"\",\"\",申込一覧表!S20&\" \"&申込一覧表!U20)","v":""},null,{"$f":"IF(申込一覧表!H20=\"\",\"\",\"0\"&申込一覧表!H20)","v":""},{"$f":"IF(申込一覧表!I20=\"\",\"\",申込一覧表!I20)","v":""},{"$f":"IF(申込一覧表!J20=\"\",\"\",申込一覧表!J20)","v":""}]
[null,{"$f":"IF(申込一覧表!B21=\"\",\"\",IF(申込一覧表!C21=\"\",申込一覧表!B21,申込一覧表!B21&\"(\"&申込一覧表!C21&\")\"))","v":""},{"$f":"IF(申込一覧表!D21=\"\",\"\",申込一覧表!D21)","v":""},{"$f":"IF(申込一覧表!E21=\"\",\"\",申込一覧表!E21)","v":""},10,{"$f":"IF(申込一覧表!W21=\"\",\"\",申込一覧表!W21)","v":""},{"$f":"IF(申込一覧表!G21=\"\",\"\",申込一覧表!G21)","v":""},{"$f":"IF(申込一覧表!K21=\"\",\"\",申込一覧表!K21&\" \"&申込一覧表!M21)","v":""},{"$f":"IF(申込一覧表!O21=\"\",\"\",申込一覧表!O21&\" \"&申込一覧表!Q21)","v":""},{"$f":"IF(申込一覧表!S21=\"\",\"\",申込一覧表!S21&\" \"&申込一覧表!U21)","v":""},null,{"$f":"IF(申込一覧表!H21=\"\",\"\",\"0\"&申込一覧表!H21)","v":""},{"$f":"IF(申込一覧表!I21=\"\",\"\",申込一覧表!I21)","v":""},{"$f":"IF(申込一覧表!J21=\"\",\"\",申込一覧表!J21)","v":""}]
[null,{"$f":"IF(申込一覧表!B22=\"\",\"\",IF(申込一覧表!C22=\"\",申込一覧表!B22,申込一覧表!B22&\"(\"&申込一覧表!C22&\")\"))","v":""},{"$f":"IF(申込一覧表!D22=\"\",\"\",申込一覧表!D22)","v":""},{"$f":"IF(申込一覧表!E22=\"\",\"\",申込一覧表!E22)","v":""},10,{"$f":"IF(申込一覧表!W22=\"\",\"\",申込一覧表!W22)","v":""},{"$f":"IF(申込一覧表!G22=\"\",\"\",申込一覧表!G22)","v":""},{"$f":"IF(申込一覧表!K22=\"\",\"\",申込一覧表!K22&\" \"&申込一覧表!M22)","v":""},{"$f":"IF(申込一覧表!O22=\"\",\"\",申込一覧表!O22&\" \"&申込一覧表!Q22)","v":""},{"$f":"IF(申込一覧表!S22=\"\",\"\",申込一覧表!S22&\" \"&申込一覧表!U22)","v":""},null,{"$f":"IF(申込一覧表!H22=\"\",\"\",\"0\"&申込一覧表!H22)","v":""},{"$f":"IF(申込一覧表!I22=\"\",\"\",申込一覧表!I22)","v":""},{"$f":"IF(申込一覧表!J22=\"\",\"\",申込一覧表!J22)","v":""}]
[null,{"$f":"IF(申込一覧表!B23=\"\",\"\",IF(申込一覧表!C23=\"\",申込一覧表!B23,申込一覧表!B23&\"(\"&申込一覧表!C23&\")\"))","v":""},{"$f":"IF(申込一覧表!D23=\"\",\"\",申込一覧表!D23)","v":""},{"$f":"IF(申込一覧表!E23=\"\",\"\",申込一覧表!E23)","v":""},10,{"$f":"IF(申込一覧表!W23=\"\",\"\",申込一覧表!W23)","v":""},{"$f":"IF(申込一覧表!G23=\"\",\"\",申込一覧表!G23)","v":""},{"$f":"IF(申込一覧表!K23=\"\",\"\",申込一覧表!K23&\" \"&申込一覧表!M23)","v":""},{"$f":"IF(申込一覧表!O23=\"\",\"\",申込一覧表!O23&\" \"&申込一覧表!Q23)","v":""},{"$f":"IF(申込一覧表!S23=\"\",\"\",申込一覧表!S23&\" \"&申込一覧表!U23)","v":""},null,{"$f":"IF(申込一覧表!H23=\"\",\"\",\"0\"&申込一覧表!H23)","v":""},{"$f":"IF(申込一覧表!I23=\"\",\"\",申込一覧表!I23)","v":""},{"$f":"IF(申込一覧表!J23=\"\",\"\",申込一覧表!J23)","v":""}]
[null,{"$f":"IF(申込一覧表!B24=\"\",\"\",IF(申込一覧表!C24=\"\",申込一覧表!B24,申込一覧表!B24&\"(\"&申込一覧表!C24&\")\"))","v":""},{"$f":"IF(申込一覧表!D24=\"\",\"\",申込一覧表!D24)","v":""},{"$f":"IF(申込一覧表!E24=\"\",\"\",申込一覧表!E24)","v":""},10,{"$f":"IF(申込一覧表!W24=\"\",\"\",申込一覧表!W24)","v":""},{"$f":"IF(申込一覧表!G24=\"\",\"\",申込一覧表!G24)","v":""},{"$f":"IF(申込一覧表!K24=\"\",\"\",申込一覧表!K24&\" \"&申込一覧表!M24)","v":""},{"$f":"IF(申込一覧表!O24=\"\",\"\",申込一覧表!O24&\" \"&申込一覧表!Q24)","v":""},{"$f":"IF(申込一覧表!S24=\"\",\"\",申込一覧表!S24&\" \"&申込一覧表!U24)","v":""},null,{"$f":"IF(申込一覧表!H24=\"\",\"\",\"0\"&申込一覧表!H24)","v":""},{"$f":"IF(申込一覧表!I24=\"\",\"\",申込一覧表!I24)","v":""},{"$f":"IF(申込一覧表!J24=\"\",\"\",申込一覧表!J24)","v":""}]
[null,{"$f":"IF(申込一覧表!B25=\"\",\"\",IF(申込一覧表!C25=\"\",申込一覧表!B25,申込一覧表!B25&\"(\"&申込一覧表!C25&\")\"))","v":""},{"$f":"IF(申込一覧表!D25=\"\",\"\",申込一覧表!D25)","v":""},{"$f":"IF(申込一覧表!E25=\"\",\"\",申込一覧表!E25)","v":""},10,{"$f":"IF(申込一覧表!W25=\"\",\"\",申込一覧表!W25)","v":""},{"$f":"IF(申込一覧表!G25=\"\",\"\",申込一覧表!G25)","v":""},{"$f":"IF(申込一覧表!K25=\"\",\"\",申込一覧表!K25&\" \"&申込一覧表!M25)","v":""},{"$f":"IF(申込一覧表!O25=\"\",\"\",申込一覧表!O25&\" \"&申込一覧表!Q25)","v":""},{"$f":"IF(申込一覧表!S25=\"\",\"\",申込一覧表!S25&\" \"&申込一覧表!U25)","v":""},null,{"$f":"IF(申込一覧表!H25=\"\",\"\",\"0\"&申込一覧表!H25)","v":""},{"$f":"IF(申込一覧表!I25=\"\",\"\",申込一覧表!I25)","v":""},{"$f":"IF(申込一覧表!J25=\"\",\"\",申込一覧表!J25)","v":""}]
[null,{"$f":"IF(申込一覧表!B26=\"\",\"\",IF(申込一覧表!C26=\"\",申込一覧表!B26,申込一覧表!B26&\"(\"&申込一覧表!C26&\")\"))","v":""},{"$f":"IF(申込一覧表!D26=\"\",\"\",申込一覧表!D26)","v":""},{"$f":"IF(申込一覧表!E26=\"\",\"\",申込一覧表!E26)","v":""},10,{"$f":"IF(申込一覧表!W26=\"\",\"\",申込一覧表!W26)","v":""},{"$f":"IF(申込一覧表!G26=\"\",\"\",申込一覧表!G26)","v":""},{"$f":"IF(申込一覧表!K26=\"\",\"\",申込一覧表!K26&\" \"&申込一覧表!M26)","v":""},{"$f":"IF(申込一覧表!O26=\"\",\"\",申込一覧表!O26&\" \"&申込一覧表!Q26)","v":""},{"$f":"IF(申込一覧表!S26=\"\",\"\",申込一覧表!S26&\" \"&申込一覧表!U26)","v":""},null,{"$f":"IF(申込一覧表!H26=\"\",\"\",\"0\"&申込一覧表!H26)","v":""},{"$f":"IF(申込一覧表!I26=\"\",\"\",申込一覧表!I26)","v":""},{"$f":"IF(申込一覧表!J26=\"\",\"\",申込一覧表!J26)","v":""}]
[null,{"$f":"IF(申込一覧表!B27=\"\",\"\",IF(申込一覧表!C27=\"\",申込一覧表!B27,申込一覧表!B27&\"(\"&申込一覧表!C27&\")\"))","v":""},{"$f":"IF(申込一覧表!D27=\"\",\"\",申込一覧表!D27)","v":""},{"$f":"IF(申込一覧表!E27=\"\",\"\",申込一覧表!E27)","v":""},10,{"$f":"IF(申込一覧表!W27=\"\",\"\",申込一覧表!W27)","v":""},{"$f":"IF(申込一覧表!G27=\"\",\"\",申込一覧表!G27)","v":""},{"$f":"IF(申込一覧表!K27=\"\",\"\",申込一覧表!K27&\" \"&申込一覧表!M27)","v":""},{"$f":"IF(申込一覧表!O27=\"\",\"\",申込一覧表!O27&\" \"&申込一覧表!Q27)","v":""},{"$f":"IF(申込一覧表!S27=\"\",\"\",申込一覧表!S27&\" \"&申込一覧表!U27)","v":""},null,{"$f":"IF(申込一覧表!H27=\"\",\"\",\"0\"&申込一覧表!H27)","v":""},{"$f":"IF(申込一覧表!I27=\"\",\"\",申込一覧表!I27)","v":""},{"$f":"IF(申込一覧表!J27=\"\",\"\",申込一覧表!J27)","v":""}]
[null,{"$f":"IF(申込一覧表!B28=\"\",\"\",IF(申込一覧表!C28=\"\",申込一覧表!B28,申込一覧表!B28&\"(\"&申込一覧表!C28&\")\"))","v":""},{"$f":"IF(申込一覧表!D28=\"\",\"\",申込一覧表!D28)","v":""},{"$f":"IF(申込一覧表!E28=\"\",\"\",申込一覧表!E28)","v":""},10,{"$f":"IF(申込一覧表!W28=\"\",\"\",申込一覧表!W28)","v":""},{"$f":"IF(申込一覧表!G28=\"\",\"\",申込一覧表!G28)","v":""},{"$f":"IF(申込一覧表!K28=\"\",\"\",申込一覧表!K28&\" \"&申込一覧表!M28)","v":""},{"$f":"IF(申込一覧表!O28=\"\",\"\",申込一覧表!O28&\" \"&申込一覧表!Q28)","v":""},{"$f":"IF(申込一覧表!S28=\"\",\"\",申込一覧表!S28&\" \"&申込一覧表!U28)","v":""},null,{"$f":"IF(申込一覧表!H28=\"\",\"\",\"0\"&申込一覧表!H28)","v":""},{"$f":"IF(申込一覧表!I28=\"\",\"\",申込一覧表!I28)","v":""},{"$f":"IF(申込一覧表!J28=\"\",\"\",申込一覧表!J28)","v":""}]
[null,{"$f":"IF(申込一覧表!B29=\"\",\"\",IF(申込一覧表!C29=\"\",申込一覧表!B29,申込一覧表!B29&\"(\"&申込一覧表!C29&\")\"))","v":""},{"$f":"IF(申込一覧表!D29=\"\",\"\",申込一覧表!D29)","v":""},{"$f":"IF(申込一覧表!E29=\"\",\"\",申込一覧表!E29)","v":""},10,{"$f":"IF(申込一覧表!W29=\"\",\"\",申込一覧表!W29)","v":""},{"$f":"IF(申込一覧表!G29=\"\",\"\",申込一覧表!G29)","v":""},{"$f":"IF(申込一覧表!K29=\"\",\"\",申込一覧表!K29&\" \"&申込一覧表!M29)","v":""},{"$f":"IF(申込一覧表!O29=\"\",\"\",申込一覧表!O29&\" \"&申込一覧表!Q29)","v":""},{"$f":"IF(申込一覧表!S29=\"\",\"\",申込一覧表!S29&\" \"&申込一覧表!U29)","v":""},null,{"$f":"IF(申込一覧表!H29=\"\",\"\",\"0\"&申込一覧表!H29)","v":""},{"$f":"IF(申込一覧表!I29=\"\",\"\",申込一覧表!I29)","v":""},{"$f":"IF(申込一覧表!J29=\"\",\"\",申込一覧表!J29)","v":""}]
[null,{"$f":"IF(申込一覧表!B30=\"\",\"\",IF(申込一覧表!C30=\"\",申込一覧表!B30,申込一覧表!B30&\"(\"&申込一覧表!C30&\")\"))","v":""},{"$f":"IF(申込一覧表!D30=\"\",\"\",申込一覧表!D30)","v":""},{"$f":"IF(申込一覧表!E30=\"\",\"\",申込一覧表!E30)","v":""},10,{"$f":"IF(申込一覧表!W30=\"\",\"\",申込一覧表!W30)","v":""},{"$f":"IF(申込一覧表!G30=\"\",\"\",申込一覧表!G30)","v":""},{"$f":"IF(申込一覧表!K30=\"\",\"\",申込一覧表!K30&\" \"&申込一覧表!M30)","v":""},{"$f":"IF(申込一覧表!O30=\"\",\"\",申込一覧表!O30&\" \"&申込一覧表!Q30)","v":""},{"$f":"IF(申込一覧表!S30=\"\",\"\",申込一覧表!S30&\" \"&申込一覧表!U30)","v":""},null,{"$f":"IF(申込一覧表!H30=\"\",\"\",\"0\"&申込一覧表!H30)","v":""},{"$f":"IF(申込一覧表!I30=\"\",\"\",申込一覧表!I30)","v":""},{"$f":"IF(申込一覧表!J30=\"\",\"\",申込一覧表!J30)","v":""}]
[null,{"$f":"IF(申込一覧表!B31=\"\",\"\",IF(申込一覧表!C31=\"\",申込一覧表!B31,申込一覧表!B31&\"(\"&申込一覧表!C31&\")\"))","v":""},{"$f":"IF(申込一覧表!D31=\"\",\"\",申込一覧表!D31)","v":""},{"$f":"IF(申込一覧表!E31=\"\",\"\",申込一覧表!E31)","v":""},10,{"$f":"IF(申込一覧表!W31=\"\",\"\",申込一覧表!W31)","v":""},{"$f":"IF(申込一覧表!G31=\"\",\"\",申込一覧表!G31)","v":""},{"$f":"IF(申込一覧表!K31=\"\",\"\",申込一覧表!K31&\" \"&申込一覧表!M31)","v":""},{"$f":"IF(申込一覧表!O31=\"\",\"\",申込一覧表!O31&\" \"&申込一覧表!Q31)","v":""},{"$f":"IF(申込一覧表!S31=\"\",\"\",申込一覧表!S31&\" \"&申込一覧表!U31)","v":""},null,{"$f":"IF(申込一覧表!H31=\"\",\"\",\"0\"&申込一覧表!H31)","v":""},{"$f":"IF(申込一覧表!I31=\"\",\"\",申込一覧表!I31)","v":""},{"$f":"IF(申込一覧表!J31=\"\",\"\",申込一覧表!J31)","v":""}]
[null,{"$f":"IF(申込一覧表!B32=\"\",\"\",IF(申込一覧表!C32=\"\",申込一覧表!B32,申込一覧表!B32&\"(\"&申込一覧表!C32&\")\"))","v":""},{"$f":"IF(申込一覧表!D32=\"\",\"\",申込一覧表!D32)","v":""},{"$f":"IF(申込一覧表!E32=\"\",\"\",申込一覧表!E32)","v":""},10,{"$f":"IF(申込一覧表!W32=\"\",\"\",申込一覧表!W32)","v":""},{"$f":"IF(申込一覧表!G32=\"\",\"\",申込一覧表!G32)","v":""},{"$f":"IF(申込一覧表!K32=\"\",\"\",申込一覧表!K32&\" \"&申込一覧表!M32)","v":""},{"$f":"IF(申込一覧表!O32=\"\",\"\",申込一覧表!O32&\" \"&申込一覧表!Q32)","v":""},{"$f":"IF(申込一覧表!S32=\"\",\"\",申込一覧表!S32&\" \"&申込一覧表!U32)","v":""},null,{"$f":"IF(申込一覧表!H32=\"\",\"\",\"0\"&申込一覧表!H32)","v":""},{"$f":"IF(申込一覧表!I32=\"\",\"\",申込一覧表!I32)","v":""},{"$f":"IF(申込一覧表!J32=\"\",\"\",申込一覧表!J32)","v":""}]
[null,{"$f":"IF(申込一覧表!B33=\"\",\"\",IF(申込一覧表!C33=\"\",申込一覧表!B33,申込一覧表!B33&\"(\"&申込一覧表!C33&\")\"))","v":""},{"$f":"IF(申込一覧表!D33=\"\",\"\",申込一覧表!D33)","v":""},{"$f":"IF(申込一覧表!E33=\"\",\"\",申込一覧表!E33)","v":""},10,{"$f":"IF(申込一覧表!W33=\"\",\"\",申込一覧表!W33)","v":""},{"$f":"IF(申込一覧表!G33=\"\",\"\",申込一覧表!G33)","v":""},{"$f":"IF(申込一覧表!K33=\"\",\"\",申込一覧表!K33&\" \"&申込一覧表!M33)","v":""},{"$f":"IF(申込一覧表!O33=\"\",\"\",申込一覧表!O33&\" \"&申込一覧表!Q33)","v":""},{"$f":"IF(申込一覧表!S33=\"\",\"\",申込一覧表!S33&\" \"&申込一覧表!U33)","v":""},null,{"$f":"IF(申込一覧表!H33=\"\",\"\",\"0\"&申込一覧表!H33)","v":""},{"$f":"IF(申込一覧表!I33=\"\",\"\",申込一覧表!I33)","v":""},{"$f":"IF(申込一覧表!J33=\"\",\"\",申込一覧表!J33)","v":""}]
[null,{"$f":"IF(申込一覧表!B34=\"\",\"\",IF(申込一覧表!C34=\"\",申込一覧表!B34,申込一覧表!B34&\"(\"&申込一覧表!C34&\")\"))","v":""},{"$f":"IF(申込一覧表!D34=\"\",\"\",申込一覧表!D34)","v":""},{"$f":"IF(申込一覧表!E34=\"\",\"\",申込一覧表!E34)","v":""},10,{"$f":"IF(申込一覧表!W34=\"\",\"\",申込一覧表!W34)","v":""},{"$f":"IF(申込一覧表!G34=\"\",\"\",申込一覧表!G34)","v":""},{"$f":"IF(申込一覧表!K34=\"\",\"\",申込一覧表!K34&\" \"&申込一覧表!M34)","v":""},{"$f":"IF(申込一覧表!O34=\"\",\"\",申込一覧表!O34&\" \"&申込一覧表!Q34)","v":""},{"$f":"IF(申込一覧表!S34=\"\",\"\",申込一覧表!S34&\" \"&申込一覧表!U34)","v":""},null,{"$f":"IF(申込一覧表!H34=\"\",\"\",\"0\"&申込一覧表!H34)","v":""},{"$f":"IF(申込一覧表!I34=\"\",\"\",申込一覧表!I34)","v":""},{"$f":"IF(申込一覧表!J34=\"\",\"\",申込一覧表!J34)","v":""}]
[null,{"$f":"IF(申込一覧表!B35=\"\",\"\",IF(申込一覧表!C35=\"\",申込一覧表!B35,申込一覧表!B35&\"(\"&申込一覧表!C35&\")\"))","v":""},{"$f":"IF(申込一覧表!D35=\"\",\"\",申込一覧表!D35)","v":""},{"$f":"IF(申込一覧表!E35=\"\",\"\",申込一覧表!E35)","v":""},10,{"$f":"IF(申込一覧表!W35=\"\",\"\",申込一覧表!W35)","v":""},{"$f":"IF(申込一覧表!G35=\"\",\"\",申込一覧表!G35)","v":""},{"$f":"IF(申込一覧表!K35=\"\",\"\",申込一覧表!K35&\" \"&申込一覧表!M35)","v":""},{"$f":"IF(申込一覧表!O35=\"\",\"\",申込一覧表!O35&\" \"&申込一覧表!Q35)","v":""},{"$f":"IF(申込一覧表!S35=\"\",\"\",申込一覧表!S35&\" \"&申込一覧表!U35)","v":""},null,{"$f":"IF(申込一覧表!H35=\"\",\"\",\"0\"&申込一覧表!H35)","v":""},{"$f":"IF(申込一覧表!I35=\"\",\"\",申込一覧表!I35)","v":""},{"$f":"IF(申込一覧表!J35=\"\",\"\",申込一覧表!J35)","v":""}]
[null,{"$f":"IF(申込一覧表!B36=\"\",\"\",IF(申込一覧表!C36=\"\",申込一覧表!B36,申込一覧表!B36&\"(\"&申込一覧表!C36&\")\"))","v":""},{"$f":"IF(申込一覧表!D36=\"\",\"\",申込一覧表!D36)","v":""},{"$f":"IF(申込一覧表!E36=\"\",\"\",申込一覧表!E36)","v":""},10,{"$f":"IF(申込一覧表!W36=\"\",\"\",申込一覧表!W36)","v":""},{"$f":"IF(申込一覧表!G36=\"\",\"\",申込一覧表!G36)","v":""},{"$f":"IF(申込一覧表!K36=\"\",\"\",申込一覧表!K36&\" \"&申込一覧表!M36)","v":""},{"$f":"IF(申込一覧表!O36=\"\",\"\",申込一覧表!O36&\" \"&申込一覧表!Q36)","v":""},{"$f":"IF(申込一覧表!S36=\"\",\"\",申込一覧表!S36&\" \"&申込一覧表!U36)","v":""},null,{"$f":"IF(申込一覧表!H36=\"\",\"\",\"0\"&申込一覧表!H36)","v":""},{"$f":"IF(申込一覧表!I36=\"\",\"\",申込一覧表!I36)","v":""},{"$f":"IF(申込一覧表!J36=\"\",\"\",申込一覧表!J36)","v":""}]
[null,{"$f":"IF(申込一覧表!B37=\"\",\"\",IF(申込一覧表!C37=\"\",申込一覧表!B37,申込一覧表!B37&\"(\"&申込一覧表!C37&\")\"))","v":""},{"$f":"IF(申込一覧表!D37=\"\",\"\",申込一覧表!D37)","v":""},{"$f":"IF(申込一覧表!E37=\"\",\"\",申込一覧表!E37)","v":""},10,{"$f":"IF(申込一覧表!W37=\"\",\"\",申込一覧表!W37)","v":""},{"$f":"IF(申込一覧表!G37=\"\",\"\",申込一覧表!G37)","v":""},{"$f":"IF(申込一覧表!K37=\"\",\"\",申込一覧表!K37&\" \"&申込一覧表!M37)","v":""},{"$f":"IF(申込一覧表!O37=\"\",\"\",申込一覧表!O37&\" \"&申込一覧表!Q37)","v":""},{"$f":"IF(申込一覧表!S37=\"\",\"\",申込一覧表!S37&\" \"&申込一覧表!U37)","v":""},null,{"$f":"IF(申込一覧表!H37=\"\",\"\",\"0\"&申込一覧表!H37)","v":""},{"$f":"IF(申込一覧表!I37=\"\",\"\",申込一覧表!I37)","v":""},{"$f":"IF(申込一覧表!J37=\"\",\"\",申込一覧表!J37)","v":""}]
[null,{"$f":"IF(申込一覧表!B38=\"\",\"\",IF(申込一覧表!C38=\"\",申込一覧表!B38,申込一覧表!B38&\"(\"&申込一覧表!C38&\")\"))","v":""},{"$f":"IF(申込一覧表!D38=\"\",\"\",申込一覧表!D38)","v":""},{"$f":"IF(申込一覧表!E38=\"\",\"\",申込一覧表!E38)","v":""},10,{"$f":"IF(申込一覧表!W38=\"\",\"\",申込一覧表!W38)","v":""},{"$f":"IF(申込一覧表!G38=\"\",\"\",申込一覧表!G38)","v":""},{"$f":"IF(申込一覧表!K38=\"\",\"\",申込一覧表!K38&\" \"&申込一覧表!M38)","v":""},{"$f":"IF(申込一覧表!O38=\"\",\"\",申込一覧表!O38&\" \"&申込一覧表!Q38)","v":""},{"$f":"IF(申込一覧表!S38=\"\",\"\",申込一覧表!S38&\" \"&申込一覧表!U38)","v":""},null,{"$f":"IF(申込一覧表!H38=\"\",\"\",\"0\"&申込一覧表!H38)","v":""},{"$f":"IF(申込一覧表!I38=\"\",\"\",申込一覧表!I38)","v":""},{"$f":"IF(申込一覧表!J38=\"\",\"\",申込一覧表!J38)","v":""}]
[null,{"$f":"IF(申込一覧表!B39=\"\",\"\",IF(申込一覧表!C39=\"\",申込一覧表!B39,申込一覧表!B39&\"(\"&申込一覧表!C39&\")\"))","v":""},{"$f":"IF(申込一覧表!D39=\"\",\"\",申込一覧表!D39)","v":""},{"$f":"IF(申込一覧表!E39=\"\",\"\",申込一覧表!E39)","v":""},10,{"$f":"IF(申込一覧表!W39=\"\",\"\",申込一覧表!W39)","v":""},{"$f":"IF(申込一覧表!G39=\"\",\"\",申込一覧表!G39)","v":""},{"$f":"IF(申込一覧表!K39=\"\",\"\",申込一覧表!K39&\" \"&申込一覧表!M39)","v":""},{"$f":"IF(申込一覧表!O39=\"\",\"\",申込一覧表!O39&\" \"&申込一覧表!Q39)","v":""},{"$f":"IF(申込一覧表!S39=\"\",\"\",申込一覧表!S39&\" \"&申込一覧表!U39)","v":""},null,{"$f":"IF(申込一覧表!H39=\"\",\"\",\"0\"&申込一覧表!H39)","v":""},{"$f":"IF(申込一覧表!I39=\"\",\"\",申込一覧表!I39)","v":""},{"$f":"IF(申込一覧表!J39=\"\",\"\",申込一覧表!J39)","v":""}]
[null,{"$f":"IF(申込一覧表!B40=\"\",\"\",IF(申込一覧表!C40=\"\",申込一覧表!B40,申込一覧表!B40&\"(\"&申込一覧表!C40&\")\"))","v":""},{"$f":"IF(申込一覧表!D40=\"\",\"\",申込一覧表!D40)","v":""},{"$f":"IF(申込一覧表!E40=\"\",\"\",申込一覧表!E40)","v":""},10,{"$f":"IF(申込一覧表!W40=\"\",\"\",申込一覧表!W40)","v":""},{"$f":"IF(申込一覧表!G40=\"\",\"\",申込一覧表!G40)","v":""},{"$f":"IF(申込一覧表!K40=\"\",\"\",申込一覧表!K40&\" \"&申込一覧表!M40)","v":""},{"$f":"IF(申込一覧表!O40=\"\",\"\",申込一覧表!O40&\" \"&申込一覧表!Q40)","v":""},{"$f":"IF(申込一覧表!S40=\"\",\"\",申込一覧表!S40&\" \"&申込一覧表!U40)","v":""},null,{"$f":"IF(申込一覧表!H40=\"\",\"\",\"0\"&申込一覧表!H40)","v":""},{"$f":"IF(申込一覧表!I40=\"\",\"\",申込一覧表!I40)","v":""},{"$f":"IF(申込一覧表!J40=\"\",\"\",申込一覧表!J40)","v":""}]
[null,{"$f":"IF(申込一覧表!B41=\"\",\"\",IF(申込一覧表!C41=\"\",申込一覧表!B41,申込一覧表!B41&\"(\"&申込一覧表!C41&\")\"))","v":""},{"$f":"IF(申込一覧表!D41=\"\",\"\",申込一覧表!D41)","v":""},{"$f":"IF(申込一覧表!E41=\"\",\"\",申込一覧表!E41)","v":""},10,{"$f":"IF(申込一覧表!W41=\"\",\"\",申込一覧表!W41)","v":""},{"$f":"IF(申込一覧表!G41=\"\",\"\",申込一覧表!G41)","v":""},{"$f":"IF(申込一覧表!K41=\"\",\"\",申込一覧表!K41&\" \"&申込一覧表!M41)","v":""},{"$f":"IF(申込一覧表!O41=\"\",\"\",申込一覧表!O41&\" \"&申込一覧表!Q41)","v":""},{"$f":"IF(申込一覧表!S41=\"\",\"\",申込一覧表!S41&\" \"&申込一覧表!U41)","v":""},null,{"$f":"IF(申込一覧表!H41=\"\",\"\",\"0\"&申込一覧表!H41)","v":""},{"$f":"IF(申込一覧表!I41=\"\",\"\",申込一覧表!I41)","v":""},{"$f":"IF(申込一覧表!J41=\"\",\"\",申込一覧表!J41)","v":""}]
[null,{"$f":"IF(申込一覧表!B42=\"\",\"\",IF(申込一覧表!C42=\"\",申込一覧表!B42,申込一覧表!B42&\"(\"&申込一覧表!C42&\")\"))","v":""},{"$f":"IF(申込一覧表!D42=\"\",\"\",申込一覧表!D42)","v":""},{"$f":"IF(申込一覧表!E42=\"\",\"\",申込一覧表!E42)","v":""},10,{"$f":"IF(申込一覧表!W42=\"\",\"\",申込一覧表!W42)","v":""},{"$f":"IF(申込一覧表!G42=\"\",\"\",申込一覧表!G42)","v":""},{"$f":"IF(申込一覧表!K42=\"\",\"\",申込一覧表!K42&\" \"&申込一覧表!M42)","v":""},{"$f":"IF(申込一覧表!O42=\"\",\"\",申込一覧表!O42&\" \"&申込一覧表!Q42)","v":""},{"$f":"IF(申込一覧表!S42=\"\",\"\",申込一覧表!S42&\" \"&申込一覧表!U42)","v":""},null,{"$f":"IF(申込一覧表!H42=\"\",\"\",\"0\"&申込一覧表!H42)","v":""},{"$f":"IF(申込一覧表!I42=\"\",\"\",申込一覧表!I42)","v":""},{"$f":"IF(申込一覧表!J42=\"\",\"\",申込一覧表!J42)","v":""}]
[null,{"$f":"IF(申込一覧表!B43=\"\",\"\",IF(申込一覧表!C43=\"\",申込一覧表!B43,申込一覧表!B43&\"(\"&申込一覧表!C43&\")\"))","v":""},{"$f":"IF(申込一覧表!D43=\"\",\"\",申込一覧表!D43)","v":""},{"$f":"IF(申込一覧表!E43=\"\",\"\",申込一覧表!E43)","v":""},10,{"$f":"IF(申込一覧表!W43=\"\",\"\",申込一覧表!W43)","v":""},{"$f":"IF(申込一覧表!G43=\"\",\"\",申込一覧表!G43)","v":""},{"$f":"IF(申込一覧表!K43=\"\",\"\",申込一覧表!K43&\" \"&申込一覧表!M43)","v":""},{"$f":"IF(申込一覧表!O43=\"\",\"\",申込一覧表!O43&\" \"&申込一覧表!Q43)","v":""},{"$f":"IF(申込一覧表!S43=\"\",\"\",申込一覧表!S43&\" \"&申込一覧表!U43)","v":""},null,{"$f":"IF(申込一覧表!H43=\"\",\"\",\"0\"&申込一覧表!H43)","v":""},{"$f":"IF(申込一覧表!I43=\"\",\"\",申込一覧表!I43)","v":""},{"$f":"IF(申込一覧表!J43=\"\",\"\",申込一覧表!J43)","v":""}]
[null,{"$f":"IF(申込一覧表!B44=\"\",\"\",IF(申込一覧表!C44=\"\",申込一覧表!B44,申込一覧表!B44&\"(\"&申込一覧表!C44&\")\"))","v":""},{"$f":"IF(申込一覧表!D44=\"\",\"\",申込一覧表!D44)","v":""},{"$f":"IF(申込一覧表!E44=\"\",\"\",申込一覧表!E44)","v":""},10,{"$f":"IF(申込一覧表!W44=\"\",\"\",申込一覧表!W44)","v":""},{"$f":"IF(申込一覧表!G44=\"\",\"\",申込一覧表!G44)","v":""},{"$f":"IF(申込一覧表!K44=\"\",\"\",申込一覧表!K44&\" \"&申込一覧表!M44)","v":""},{"$f":"IF(申込一覧表!O44=\"\",\"\",申込一覧表!O44&\" \"&申込一覧表!Q44)","v":""},{"$f":"IF(申込一覧表!S44=\"\",\"\",申込一覧表!S44&\" \"&申込一覧表!U44)","v":""},null,{"$f":"IF(申込一覧表!H44=\"\",\"\",\"0\"&申込一覧表!H44)","v":""},{"$f":"IF(申込一覧表!I44=\"\",\"\",申込一覧表!I44)","v":""},{"$f":"IF(申込一覧表!J44=\"\",\"\",申込一覧表!J44)","v":""}]
[null,{"$f":"IF(申込一覧表!B45=\"\",\"\",IF(申込一覧表!C45=\"\",申込一覧表!B45,申込一覧表!B45&\"(\"&申込一覧表!C45&\")\"))","v":""},{"$f":"IF(申込一覧表!D45=\"\",\"\",申込一覧表!D45)","v":""},{"$f":"IF(申込一覧表!E45=\"\",\"\",申込一覧表!E45)","v":""},10,{"$f":"IF(申込一覧表!W45=\"\",\"\",申込一覧表!W45)","v":""},{"$f":"IF(申込一覧表!G45=\"\",\"\",申込一覧表!G45)","v":""},{"$f":"IF(申込一覧表!K45=\"\",\"\",申込一覧表!K45&\" \"&申込一覧表!M45)","v":""},{"$f":"IF(申込一覧表!O45=\"\",\"\",申込一覧表!O45&\" \"&申込一覧表!Q45)","v":""},{"$f":"IF(申込一覧表!S45=\"\",\"\",申込一覧表!S45&\" \"&申込一覧表!U45)","v":""},null,{"$f":"IF(申込一覧表!H45=\"\",\"\",\"0\"&申込一覧表!H45)","v":""},{"$f":"IF(申込一覧表!I45=\"\",\"\",申込一覧表!I45)","v":""},{"$f":"IF(申込一覧表!J45=\"\",\"\",申込一覧表!J45)","v":""}]
[null,{"$f":"IF(申込一覧表!B46=\"\",\"\",IF(申込一覧表!C46=\"\",申込一覧表!B46,申込一覧表!B46&\"(\"&申込一覧表!C46&\")\"))","v":""},{"$f":"IF(申込一覧表!D46=\"\",\"\",申込一覧表!D46)","v":""},{"$f":"IF(申込一覧表!E46=\"\",\"\",申込一覧表!E46)","v":""},10,{"$f":"IF(申込一覧表!W46=\"\",\"\",申込一覧表!W46)","v":""},{"$f":"IF(申込一覧表!G46=\"\",\"\",申込一覧表!G46)","v":""},{"$f":"IF(申込一覧表!K46=\"\",\"\",申込一覧表!K46&\" \"&申込一覧表!M46)","v":""},{"$f":"IF(申込一覧表!O46=\"\",\"\",申込一覧表!O46&\" \"&申込一覧表!Q46)","v":""},{"$f":"IF(申込一覧表!S46=\"\",\"\",申込一覧表!S46&\" \"&申込一覧表!U46)","v":""},null,{"$f":"IF(申込一覧表!H46=\"\",\"\",\"0\"&申込一覧表!H46)","v":""},{"$f":"IF(申込一覧表!I46=\"\",\"\",申込一覧表!I46)","v":""},{"$f":"IF(申込一覧表!J46=\"\",\"\",申込一覧表!J46)","v":""}]
[null,{"$f":"IF(申込一覧表!B47=\"\",\"\",IF(申込一覧表!C47=\"\",申込一覧表!B47,申込一覧表!B47&\"(\"&申込一覧表!C47&\")\"))","v":""},{"$f":"IF(申込一覧表!D47=\"\",\"\",申込一覧表!D47)","v":""},{"$f":"IF(申込一覧表!E47=\"\",\"\",申込一覧表!E47)","v":""},10,{"$f":"IF(申込一覧表!W47=\"\",\"\",申込一覧表!W47)","v":""},{"$f":"IF(申込一覧表!G47=\"\",\"\",申込一覧表!G47)","v":""},{"$f":"IF(申込一覧表!K47=\"\",\"\",申込一覧表!K47&\" \"&申込一覧表!M47)","v":""},{"$f":"IF(申込一覧表!O47=\"\",\"\",申込一覧表!O47&\" \"&申込一覧表!Q47)","v":""},{"$f":"IF(申込一覧表!S47=\"\",\"\",申込一覧表!S47&\" \"&申込一覧表!U47)","v":""},null,{"$f":"IF(申込一覧表!H47=\"\",\"\",\"0\"&申込一覧表!H47)","v":""},{"$f":"IF(申込一覧表!I47=\"\",\"\",申込一覧表!I47)","v":""},{"$f":"IF(申込一覧表!J47=\"\",\"\",申込一覧表!J47)","v":""}]
[null,{"$f":"IF(申込一覧表!B48=\"\",\"\",IF(申込一覧表!C48=\"\",申込一覧表!B48,申込一覧表!B48&\"(\"&申込一覧表!C48&\")\"))","v":""},{"$f":"IF(申込一覧表!D48=\"\",\"\",申込一覧表!D48)","v":""},{"$f":"IF(申込一覧表!E48=\"\",\"\",申込一覧表!E48)","v":""},10,{"$f":"IF(申込一覧表!W48=\"\",\"\",申込一覧表!W48)","v":""},{"$f":"IF(申込一覧表!G48=\"\",\"\",申込一覧表!G48)","v":""},{"$f":"IF(申込一覧表!K48=\"\",\"\",申込一覧表!K48&\" \"&申込一覧表!M48)","v":""},{"$f":"IF(申込一覧表!O48=\"\",\"\",申込一覧表!O48&\" \"&申込一覧表!Q48)","v":""},{"$f":"IF(申込一覧表!S48=\"\",\"\",申込一覧表!S48&\" \"&申込一覧表!U48)","v":""},null,{"$f":"IF(申込一覧表!H48=\"\",\"\",\"0\"&申込一覧表!H48)","v":""},{"$f":"IF(申込一覧表!I48=\"\",\"\",申込一覧表!I48)","v":""},{"$f":"IF(申込一覧表!J48=\"\",\"\",申込一覧表!J48)","v":""}]
[null,{"$f":"IF(申込一覧表!B49=\"\",\"\",IF(申込一覧表!C49=\"\",申込一覧表!B49,申込一覧表!B49&\"(\"&申込一覧表!C49&\")\"))","v":""},{"$f":"IF(申込一覧表!D49=\"\",\"\",申込一覧表!D49)","v":""},{"$f":"IF(申込一覧表!E49=\"\",\"\",申込一覧表!E49)","v":""},10,{"$f":"IF(申込一覧表!W49=\"\",\"\",申込一覧表!W49)","v":""},{"$f":"IF(申込一覧表!G49=\"\",\"\",申込一覧表!G49)","v":""},{"$f":"IF(申込一覧表!K49=\"\",\"\",申込一覧表!K49&\" \"&申込一覧表!M49)","v":""},{"$f":"IF(申込一覧表!O49=\"\",\"\",申込一覧表!O49&\" \"&申込一覧表!Q49)","v":""},{"$f":"IF(申込一覧表!S49=\"\",\"\",申込一覧表!S49&\" \"&申込一覧表!U49)","v":""},null,{"$f":"IF(申込一覧表!H49=\"\",\"\",\"0\"&申込一覧表!H49)","v":""},{"$f":"IF(申込一覧表!I49=\"\",\"\",申込一覧表!I49)","v":""},{"$f":"IF(申込一覧表!J49=\"\",\"\",申込一覧表!J49)","v":""}]
[null,{"$f":"IF(申込一覧表!B50=\"\",\"\",IF(申込一覧表!C50=\"\",申込一覧表!B50,申込一覧表!B50&\"(\"&申込一覧表!C50&\")\"))","v":""},{"$f":"IF(申込一覧表!D50=\"\",\"\",申込一覧表!D50)","v":""},{"$f":"IF(申込一覧表!E50=\"\",\"\",申込一覧表!E50)","v":""},10,{"$f":"IF(申込一覧表!W50=\"\",\"\",申込一覧表!W50)","v":""},{"$f":"IF(申込一覧表!G50=\"\",\"\",申込一覧表!G50)","v":""},{"$f":"IF(申込一覧表!K50=\"\",\"\",申込一覧表!K50&\" \"&申込一覧表!M50)","v":""},{"$f":"IF(申込一覧表!O50=\"\",\"\",申込一覧表!O50&\" \"&申込一覧表!Q50)","v":""},{"$f":"IF(申込一覧表!S50=\"\",\"\",申込一覧表!S50&\" \"&申込一覧表!U50)","v":""},null,{"$f":"IF(申込一覧表!H50=\"\",\"\",\"0\"&申込一覧表!H50)","v":""},{"$f":"IF(申込一覧表!I50=\"\",\"\",申込一覧表!I50)","v":""},{"$f":"IF(申込一覧表!J50=\"\",\"\",申込一覧表!J50)","v":""}]
[null,{"$f":"IF(申込一覧表!B51=\"\",\"\",IF(申込一覧表!C51=\"\",申込一覧表!B51,申込一覧表!B51&\"(\"&申込一覧表!C51&\")\"))","v":""},{"$f":"IF(申込一覧表!D51=\"\",\"\",申込一覧表!D51)","v":""},{"$f":"IF(申込一覧表!E51=\"\",\"\",申込一覧表!E51)","v":""},10,{"$f":"IF(申込一覧表!W51=\"\",\"\",申込一覧表!W51)","v":""},{"$f":"IF(申込一覧表!G51=\"\",\"\",申込一覧表!G51)","v":""},{"$f":"IF(申込一覧表!K51=\"\",\"\",申込一覧表!K51&\" \"&申込一覧表!M51)","v":""},{"$f":"IF(申込一覧表!O51=\"\",\"\",申込一覧表!O51&\" \"&申込一覧表!Q51)","v":""},{"$f":"IF(申込一覧表!S51=\"\",\"\",申込一覧表!S51&\" \"&申込一覧表!U51)","v":""},null,{"$f":"IF(申込一覧表!H51=\"\",\"\",\"0\"&申込一覧表!H51)","v":""},{"$f":"IF(申込一覧表!I51=\"\",\"\",申込一覧表!I51)","v":""},{"$f":"IF(申込一覧表!J51=\"\",\"\",申込一覧表!J51)","v":""}]
[null,{"$f":"IF(申込一覧表!B52=\"\",\"\",IF(申込一覧表!C52=\"\",申込一覧表!B52,申込一覧表!B52&\"(\"&申込一覧表!C52&\")\"))","v":""},{"$f":"IF(申込一覧表!D52=\"\",\"\",申込一覧表!D52)","v":""},{"$f":"IF(申込一覧表!E52=\"\",\"\",申込一覧表!E52)","v":""},10,{"$f":"IF(申込一覧表!W52=\"\",\"\",申込一覧表!W52)","v":""},{"$f":"IF(申込一覧表!G52=\"\",\"\",申込一覧表!G52)","v":""},{"$f":"IF(申込一覧表!K52=\"\",\"\",申込一覧表!K52&\" \"&申込一覧表!M52)","v":""},{"$f":"IF(申込一覧表!O52=\"\",\"\",申込一覧表!O52&\" \"&申込一覧表!Q52)","v":""},{"$f":"IF(申込一覧表!S52=\"\",\"\",申込一覧表!S52&\" \"&申込一覧表!U52)","v":""},null,{"$f":"IF(申込一覧表!H52=\"\",\"\",\"0\"&申込一覧表!H52)","v":""},{"$f":"IF(申込一覧表!I52=\"\",\"\",申込一覧表!I52)","v":""},{"$f":"IF(申込一覧表!J52=\"\",\"\",申込一覧表!J52)","v":""}]
[null,{"$f":"IF(申込一覧表!B53=\"\",\"\",IF(申込一覧表!C53=\"\",申込一覧表!B53,申込一覧表!B53&\"(\"&申込一覧表!C53&\")\"))","v":""},{"$f":"IF(申込一覧表!D53=\"\",\"\",申込一覧表!D53)","v":""},{"$f":"IF(申込一覧表!E53=\"\",\"\",申込一覧表!E53)","v":""},10,{"$f":"IF(申込一覧表!W53=\"\",\"\",申込一覧表!W53)","v":""},{"$f":"IF(申込一覧表!G53=\"\",\"\",申込一覧表!G53)","v":""},{"$f":"IF(申込一覧表!K53=\"\",\"\",申込一覧表!K53&\" \"&申込一覧表!M53)","v":""},{"$f":"IF(申込一覧表!O53=\"\",\"\",申込一覧表!O53&\" \"&申込一覧表!Q53)","v":""},{"$f":"IF(申込一覧表!S53=\"\",\"\",申込一覧表!S53&\" \"&申込一覧表!U53)","v":""},null,{"$f":"IF(申込一覧表!H53=\"\",\"\",\"0\"&申込一覧表!H53)","v":""},{"$f":"IF(申込一覧表!I53=\"\",\"\",申込一覧表!I53)","v":""},{"$f":"IF(申込一覧表!J53=\"\",\"\",申込一覧表!J53)","v":""}]
[null,{"$f":"IF(申込一覧表!B54=\"\",\"\",IF(申込一覧表!C54=\"\",申込一覧表!B54,申込一覧表!B54&\"(\"&申込一覧表!C54&\")\"))","v":""},{"$f":"IF(申込一覧表!D54=\"\",\"\",申込一覧表!D54)","v":""},{"$f":"IF(申込一覧表!E54=\"\",\"\",申込一覧表!E54)","v":""},10,{"$f":"IF(申込一覧表!W54=\"\",\"\",申込一覧表!W54)","v":""},{"$f":"IF(申込一覧表!G54=\"\",\"\",申込一覧表!G54)","v":""},{"$f":"IF(申込一覧表!K54=\"\",\"\",申込一覧表!K54&\" \"&申込一覧表!M54)","v":""},{"$f":"IF(申込一覧表!O54=\"\",\"\",申込一覧表!O54&\" \"&申込一覧表!Q54)","v":""},{"$f":"IF(申込一覧表!S54=\"\",\"\",申込一覧表!S54&\" \"&申込一覧表!U54)","v":""},null,{"$f":"IF(申込一覧表!H54=\"\",\"\",\"0\"&申込一覧表!H54)","v":""},{"$f":"IF(申込一覧表!I54=\"\",\"\",申込一覧表!I54)","v":""},{"$f":"IF(申込一覧表!J54=\"\",\"\",申込一覧表!J54)","v":""}]
[null,{"$f":"IF(申込一覧表!B55=\"\",\"\",IF(申込一覧表!C55=\"\",申込一覧表!B55,申込一覧表!B55&\"(\"&申込一覧表!C55&\")\"))","v":""},{"$f":"IF(申込一覧表!D55=\"\",\"\",申込一覧表!D55)","v":""},{"$f":"IF(申込一覧表!E55=\"\",\"\",申込一覧表!E55)","v":""},10,{"$f":"IF(申込一覧表!W55=\"\",\"\",申込一覧表!W55)","v":""},{"$f":"IF(申込一覧表!G55=\"\",\"\",申込一覧表!G55)","v":""},{"$f":"IF(申込一覧表!K55=\"\",\"\",申込一覧表!K55&\" \"&申込一覧表!M55)","v":""},{"$f":"IF(申込一覧表!O55=\"\",\"\",申込一覧表!O55&\" \"&申込一覧表!Q55)","v":""},{"$f":"IF(申込一覧表!S55=\"\",\"\",申込一覧表!S55&\" \"&申込一覧表!U55)","v":""},null,{"$f":"IF(申込一覧表!H55=\"\",\"\",\"0\"&申込一覧表!H55)","v":""},{"$f":"IF(申込一覧表!I55=\"\",\"\",申込一覧表!I55)","v":""},{"$f":"IF(申込一覧表!J55=\"\",\"\",申込一覧表!J55)","v":""}]
[null,{"$f":"IF(申込一覧表!B56=\"\",\"\",IF(申込一覧表!C56=\"\",申込一覧表!B56,申込一覧表!B56&\"(\"&申込一覧表!C56&\")\"))","v":""},{"$f":"IF(申込一覧表!D56=\"\",\"\",申込一覧表!D56)","v":""},{"$f":"IF(申込一覧表!E56=\"\",\"\",申込一覧表!E56)","v":""},10,{"$f":"IF(申込一覧表!W56=\"\",\"\",申込一覧表!W56)","v":""},{"$f":"IF(申込一覧表!G56=\"\",\"\",申込一覧表!G56)","v":""},{"$f":"IF(申込一覧表!K56=\"\",\"\",申込一覧表!K56&\" \"&申込一覧表!M56)","v":""},{"$f":"IF(申込一覧表!O56=\"\",\"\",申込一覧表!O56&\" \"&申込一覧表!Q56)","v":""},{"$f":"IF(申込一覧表!S56=\"\",\"\",申込一覧表!S56&\" \"&申込一覧表!U56)","v":""},null,{"$f":"IF(申込一覧表!H56=\"\",\"\",\"0\"&申込一覧表!H56)","v":""},{"$f":"IF(申込一覧表!I56=\"\",\"\",申込一覧表!I56)","v":""},{"$f":"IF(申込一覧表!J56=\"\",\"\",申込一覧表!J56)","v":""}]
[null,{"$f":"IF(申込一覧表!B57=\"\",\"\",IF(申込一覧表!C57=\"\",申込一覧表!B57,申込一覧表!B57&\"(\"&申込一覧表!C57&\")\"))","v":""},{"$f":"IF(申込一覧表!D57=\"\",\"\",申込一覧表!D57)","v":""},{"$f":"IF(申込一覧表!E57=\"\",\"\",申込一覧表!E57)","v":""},10,{"$f":"IF(申込一覧表!W57=\"\",\"\",申込一覧表!W57)","v":""},{"$f":"IF(申込一覧表!G57=\"\",\"\",申込一覧表!G57)","v":""},{"$f":"IF(申込一覧表!K57=\"\",\"\",申込一覧表!K57&\" \"&申込一覧表!M57)","v":""},{"$f":"IF(申込一覧表!O57=\"\",\"\",申込一覧表!O57&\" \"&申込一覧表!Q57)","v":""},{"$f":"IF(申込一覧表!S57=\"\",\"\",申込一覧表!S57&\" \"&申込一覧表!U57)","v":""},null,{"$f":"IF(申込一覧表!H57=\"\",\"\",\"0\"&申込一覧表!H57)","v":""},{"$f":"IF(申込一覧表!I57=\"\",\"\",申込一覧表!I57)","v":""},{"$f":"IF(申込一覧表!J57=\"\",\"\",申込一覧表!J57)","v":""}]
[null,{"$f":"IF(申込一覧表!B58=\"\",\"\",IF(申込一覧表!C58=\"\",申込一覧表!B58,申込一覧表!B58&\"(\"&申込一覧表!C58&\")\"))","v":""},{"$f":"IF(申込一覧表!D58=\"\",\"\",申込一覧表!D58)","v":""},{"$f":"IF(申込一覧表!E58=\"\",\"\",申込一覧表!E58)","v":""},10,{"$f":"IF(申込一覧表!W58=\"\",\"\",申込一覧表!W58)","v":""},{"$f":"IF(申込一覧表!G58=\"\",\"\",申込一覧表!G58)","v":""},{"$f":"IF(申込一覧表!K58=\"\",\"\",申込一覧表!K58&\" \"&申込一覧表!M58)","v":""},{"$f":"IF(申込一覧表!O58=\"\",\"\",申込一覧表!O58&\" \"&申込一覧表!Q58)","v":""},{"$f":"IF(申込一覧表!S58=\"\",\"\",申込一覧表!S58&\" \"&申込一覧表!U58)","v":""},null,{"$f":"IF(申込一覧表!H58=\"\",\"\",\"0\"&申込一覧表!H58)","v":""},{"$f":"IF(申込一覧表!I58=\"\",\"\",申込一覧表!I58)","v":""},{"$f":"IF(申込一覧表!J58=\"\",\"\",申込一覧表!J58)","v":""}]
[null,{"$f":"IF(申込一覧表!B59=\"\",\"\",IF(申込一覧表!C59=\"\",申込一覧表!B59,申込一覧表!B59&\"(\"&申込一覧表!C59&\")\"))","v":""},{"$f":"IF(申込一覧表!D59=\"\",\"\",申込一覧表!D59)","v":""},{"$f":"IF(申込一覧表!E59=\"\",\"\",申込一覧表!E59)","v":""},10,{"$f":"IF(申込一覧表!W59=\"\",\"\",申込一覧表!W59)","v":""},{"$f":"IF(申込一覧表!G59=\"\",\"\",申込一覧表!G59)","v":""},{"$f":"IF(申込一覧表!K59=\"\",\"\",申込一覧表!K59&\" \"&申込一覧表!M59)","v":""},{"$f":"IF(申込一覧表!O59=\"\",\"\",申込一覧表!O59&\" \"&申込一覧表!Q59)","v":""},{"$f":"IF(申込一覧表!S59=\"\",\"\",申込一覧表!S59&\" \"&申込一覧表!U59)","v":""},null,{"$f":"IF(申込一覧表!H59=\"\",\"\",\"0\"&申込一覧表!H59)","v":""},{"$f":"IF(申込一覧表!I59=\"\",\"\",申込一覧表!I59)","v":""},{"$f":"IF(申込一覧表!J59=\"\",\"\",申込一覧表!J59)","v":""}]
[null,{"$f":"IF(申込一覧表!B60=\"\",\"\",IF(申込一覧表!C60=\"\",申込一覧表!B60,申込一覧表!B60&\"(\"&申込一覧表!C60&\")\"))","v":""},{"$f":"IF(申込一覧表!D60=\"\",\"\",申込一覧表!D60)","v":""},{"$f":"IF(申込一覧表!E60=\"\",\"\",申込一覧表!E60)","v":""},10,{"$f":"IF(申込一覧表!W60=\"\",\"\",申込一覧表!W60)","v":""},{"$f":"IF(申込一覧表!G60=\"\",\"\",申込一覧表!G60)","v":""},{"$f":"IF(申込一覧表!K60=\"\",\"\",申込一覧表!K60&\" \"&申込一覧表!M60)","v":""},{"$f":"IF(申込一覧表!O60=\"\",\"\",申込一覧表!O60&\" \"&申込一覧表!Q60)","v":""},{"$f":"IF(申込一覧表!S60=\"\",\"\",申込一覧表!S60&\" \"&申込一覧表!U60)","v":""},null,{"$f":"IF(申込一覧表!H60=\"\",\"\",\"0\"&申込一覧表!H60)","v":""},{"$f":"IF(申込一覧表!I60=\"\",\"\",申込一覧表!I60)","v":""},{"$f":"IF(申込一覧表!J60=\"\",\"\",申込一覧表!J60)","v":""}]
[null,{"$f":"IF(申込一覧表!B61=\"\",\"\",IF(申込一覧表!C61=\"\",申込一覧表!B61,申込一覧表!B61&\"(\"&申込一覧表!C61&\")\"))","v":""},{"$f":"IF(申込一覧表!D61=\"\",\"\",申込一覧表!D61)","v":""},{"$f":"IF(申込一覧表!E61=\"\",\"\",申込一覧表!E61)","v":""},10,{"$f":"IF(申込一覧表!W61=\"\",\"\",申込一覧表!W61)","v":""},{"$f":"IF(申込一覧表!G61=\"\",\"\",申込一覧表!G61)","v":""},{"$f":"IF(申込一覧表!K61=\"\",\"\",申込一覧表!K61&\" \"&申込一覧表!M61)","v":""},{"$f":"IF(申込一覧表!O61=\"\",\"\",申込一覧表!O61&\" \"&申込一覧表!Q61)","v":""},{"$f":"IF(申込一覧表!S61=\"\",\"\",申込一覧表!S61&\" \"&申込一覧表!U61)","v":""},null,{"$f":"IF(申込一覧表!H61=\"\",\"\",\"0\"&申込一覧表!H61)","v":""},{"$f":"IF(申込一覧表!I61=\"\",\"\",申込一覧表!I61)","v":""},{"$f":"IF(申込一覧表!J61=\"\",\"\",申込一覧表!J61)","v":""}]
[null,{"$f":"IF(申込一覧表!B62=\"\",\"\",IF(申込一覧表!C62=\"\",申込一覧表!B62,申込一覧表!B62&\"(\"&申込一覧表!C62&\")\"))","v":""},{"$f":"IF(申込一覧表!D62=\"\",\"\",申込一覧表!D62)","v":""},{"$f":"IF(申込一覧表!E62=\"\",\"\",申込一覧表!E62)","v":""},10,{"$f":"IF(申込一覧表!W62=\"\",\"\",申込一覧表!W62)","v":""},{"$f":"IF(申込一覧表!G62=\"\",\"\",申込一覧表!G62)","v":""},{"$f":"IF(申込一覧表!K62=\"\",\"\",申込一覧表!K62&\" \"&申込一覧表!M62)","v":""},{"$f":"IF(申込一覧表!O62=\"\",\"\",申込一覧表!O62&\" \"&申込一覧表!Q62)","v":""},{"$f":"IF(申込一覧表!S62=\"\",\"\",申込一覧表!S62&\" \"&申込一覧表!U62)","v":""},null,{"$f":"IF(申込一覧表!H62=\"\",\"\",\"0\"&申込一覧表!H62)","v":""},{"$f":"IF(申込一覧表!I62=\"\",\"\",申込一覧表!I62)","v":""},{"$f":"IF(申込一覧表!J62=\"\",\"\",申込一覧表!J62)","v":""}]
[null,{"$f":"IF(申込一覧表!B63=\"\",\"\",IF(申込一覧表!C63=\"\",申込一覧表!B63,申込一覧表!B63&\"(\"&申込一覧表!C63&\")\"))","v":""},{"$f":"IF(申込一覧表!D63=\"\",\"\",申込一覧表!D63)","v":""},{"$f":"IF(申込一覧表!E63=\"\",\"\",申込一覧表!E63)","v":""},10,{"$f":"IF(申込一覧表!W63=\"\",\"\",申込一覧表!W63)","v":""},{"$f":"IF(申込一覧表!G63=\"\",\"\",申込一覧表!G63)","v":""},{"$f":"IF(申込一覧表!K63=\"\",\"\",申込一覧表!K63&\" \"&申込一覧表!M63)","v":""},{"$f":"IF(申込一覧表!O63=\"\",\"\",申込一覧表!O63&\" \"&申込一覧表!Q63)","v":""},{"$f":"IF(申込一覧表!S63=\"\",\"\",申込一覧表!S63&\" \"&申込一覧表!U63)","v":""},null,{"$f":"IF(申込一覧表!H63=\"\",\"\",\"0\"&申込一覧表!H63)","v":""},{"$f":"IF(申込一覧表!I63=\"\",\"\",申込一覧表!I63)","v":""},{"$f":"IF(申込一覧表!J63=\"\",\"\",申込一覧表!J63)","v":""}]
[null,{"$f":"IF(申込一覧表!B64=\"\",\"\",IF(申込一覧表!C64=\"\",申込一覧表!B64,申込一覧表!B64&\"(\"&申込一覧表!C64&\")\"))","v":""},{"$f":"IF(申込一覧表!D64=\"\",\"\",申込一覧表!D64)","v":""},{"$f":"IF(申込一覧表!E64=\"\",\"\",申込一覧表!E64)","v":""},10,{"$f":"IF(申込一覧表!W64=\"\",\"\",申込一覧表!W64)","v":""},{"$f":"IF(申込一覧表!G64=\"\",\"\",申込一覧表!G64)","v":""},{"$f":"IF(申込一覧表!K64=\"\",\"\",申込一覧表!K64&\" \"&申込一覧表!M64)","v":""},{"$f":"IF(申込一覧表!O64=\"\",\"\",申込一覧表!O64&\" \"&申込一覧表!Q64)","v":""},{"$f":"IF(申込一覧表!S64=\"\",\"\",申込一覧表!S64&\" \"&申込一覧表!U64)","v":""},null,{"$f":"IF(申込一覧表!H64=\"\",\"\",\"0\"&申込一覧表!H64)","v":""},{"$f":"IF(申込一覧表!I64=\"\",\"\",申込一覧表!I64)","v":""},{"$f":"IF(申込一覧表!J64=\"\",\"\",申込一覧表!J64)","v":""}]
[null,{"$f":"IF(申込一覧表!B65=\"\",\"\",IF(申込一覧表!C65=\"\",申込一覧表!B65,申込一覧表!B65&\"(\"&申込一覧表!C65&\")\"))","v":""},{"$f":"IF(申込一覧表!D65=\"\",\"\",申込一覧表!D65)","v":""},{"$f":"IF(申込一覧表!E65=\"\",\"\",申込一覧表!E65)","v":""},10,{"$f":"IF(申込一覧表!W65=\"\",\"\",申込一覧表!W65)","v":""},{"$f":"IF(申込一覧表!G65=\"\",\"\",申込一覧表!G65)","v":""},{"$f":"IF(申込一覧表!K65=\"\",\"\",申込一覧表!K65&\" \"&申込一覧表!M65)","v":""},{"$f":"IF(申込一覧表!O65=\"\",\"\",申込一覧表!O65&\" \"&申込一覧表!Q65)","v":""},{"$f":"IF(申込一覧表!S65=\"\",\"\",申込一覧表!S65&\" \"&申込一覧表!U65)","v":""},null,{"$f":"IF(申込一覧表!H65=\"\",\"\",\"0\"&申込一覧表!H65)","v":""},{"$f":"IF(申込一覧表!I65=\"\",\"\",申込一覧表!I65)","v":""},{"$f":"IF(申込一覧表!J65=\"\",\"\",申込一覧表!J65)","v":""}]
[null,{"$f":"IF(申込一覧表!B66=\"\",\"\",IF(申込一覧表!C66=\"\",申込一覧表!B66,申込一覧表!B66&\"(\"&申込一覧表!C66&\")\"))","v":""},{"$f":"IF(申込一覧表!D66=\"\",\"\",申込一覧表!D66)","v":""},{"$f":"IF(申込一覧表!E66=\"\",\"\",申込一覧表!E66)","v":""},10,{"$f":"IF(申込一覧表!W66=\"\",\"\",申込一覧表!W66)","v":""},{"$f":"IF(申込一覧表!G66=\"\",\"\",申込一覧表!G66)","v":""},{"$f":"IF(申込一覧表!K66=\"\",\"\",申込一覧表!K66&\" \"&申込一覧表!M66)","v":""},{"$f":"IF(申込一覧表!O66=\"\",\"\",申込一覧表!O66&\" \"&申込一覧表!Q66)","v":""},{"$f":"IF(申込一覧表!S66=\"\",\"\",申込一覧表!S66&\" \"&申込一覧表!U66)","v":""},null,{"$f":"IF(申込一覧表!H66=\"\",\"\",\"0\"&申込一覧表!H66)","v":""},{"$f":"IF(申込一覧表!I66=\"\",\"\",申込一覧表!I66)","v":""},{"$f":"IF(申込一覧表!J66=\"\",\"\",申込一覧表!J66)","v":""}]
[null,{"$f":"IF(申込一覧表!B67=\"\",\"\",IF(申込一覧表!C67=\"\",申込一覧表!B67,申込一覧表!B67&\"(\"&申込一覧表!C67&\")\"))","v":""},{"$f":"IF(申込一覧表!D67=\"\",\"\",申込一覧表!D67)","v":""},{"$f":"IF(申込一覧表!E67=\"\",\"\",申込一覧表!E67)","v":""},10,{"$f":"IF(申込一覧表!W67=\"\",\"\",申込一覧表!W67)","v":""},{"$f":"IF(申込一覧表!G67=\"\",\"\",申込一覧表!G67)","v":""},{"$f":"IF(申込一覧表!K67=\"\",\"\",申込一覧表!K67&\" \"&申込一覧表!M67)","v":""},{"$f":"IF(申込一覧表!O67=\"\",\"\",申込一覧表!O67&\" \"&申込一覧表!Q67)","v":""},{"$f":"IF(申込一覧表!S67=\"\",\"\",申込一覧表!S67&\" \"&申込一覧表!U67)","v":""},null,{"$f":"IF(申込一覧表!H67=\"\",\"\",\"0\"&申込一覧表!H67)","v":""},{"$f":"IF(申込一覧表!I67=\"\",\"\",申込一覧表!I67)","v":""},{"$f":"IF(申込一覧表!J67=\"\",\"\",申込一覧表!J67)","v":""}]
[null,{"$f":"IF(申込一覧表!B68=\"\",\"\",IF(申込一覧表!C68=\"\",申込一覧表!B68,申込一覧表!B68&\"(\"&申込一覧表!C68&\")\"))","v":""},{"$f":"IF(申込一覧表!D68=\"\",\"\",申込一覧表!D68)","v":""},{"$f":"IF(申込一覧表!E68=\"\",\"\",申込一覧表!E68)","v":""},10,{"$f":"IF(申込一覧表!W68=\"\",\"\",申込一覧表!W68)","v":""},{"$f":"IF(申込一覧表!G68=\"\",\"\",申込一覧表!G68)","v":""},{"$f":"IF(申込一覧表!K68=\"\",\"\",申込一覧表!K68&\" \"&申込一覧表!M68)","v":""},{"$f":"IF(申込一覧表!O68=\"\",\"\",申込一覧表!O68&\" \"&申込一覧表!Q68)","v":""},{"$f":"IF(申込一覧表!S68=\"\",\"\",申込一覧表!S68&\" \"&申込一覧表!U68)","v":""},null,{"$f":"IF(申込一覧表!H68=\"\",\"\",\"0\"&申込一覧表!H68)","v":""},{"$f":"IF(申込一覧表!I68=\"\",\"\",申込一覧表!I68)","v":""},{"$f":"IF(申込一覧表!J68=\"\",\"\",申込一覧表!J68)","v":""}]
[null,{"$f":"IF(申込一覧表!B69=\"\",\"\",IF(申込一覧表!C69=\"\",申込一覧表!B69,申込一覧表!B69&\"(\"&申込一覧表!C69&\")\"))","v":""},{"$f":"IF(申込一覧表!D69=\"\",\"\",申込一覧表!D69)","v":""},{"$f":"IF(申込一覧表!E69=\"\",\"\",申込一覧表!E69)","v":""},10,{"$f":"IF(申込一覧表!W69=\"\",\"\",申込一覧表!W69)","v":""},{"$f":"IF(申込一覧表!G69=\"\",\"\",申込一覧表!G69)","v":""},{"$f":"IF(申込一覧表!K69=\"\",\"\",申込一覧表!K69&\" \"&申込一覧表!M69)","v":""},{"$f":"IF(申込一覧表!O69=\"\",\"\",申込一覧表!O69&\" \"&申込一覧表!Q69)","v":""},{"$f":"IF(申込一覧表!S69=\"\",\"\",申込一覧表!S69&\" \"&申込一覧表!U69)","v":""},null,{"$f":"IF(申込一覧表!H69=\"\",\"\",\"0\"&申込一覧表!H69)","v":""},{"$f":"IF(申込一覧表!I69=\"\",\"\",申込一覧表!I69)","v":""},{"$f":"IF(申込一覧表!J69=\"\",\"\",申込一覧表!J69)","v":""}]
[null,{"$f":"IF(申込一覧表!B70=\"\",\"\",IF(申込一覧表!C70=\"\",申込一覧表!B70,申込一覧表!B70&\"(\"&申込一覧表!C70&\")\"))","v":""},{"$f":"IF(申込一覧表!D70=\"\",\"\",申込一覧表!D70)","v":""},{"$f":"IF(申込一覧表!E70=\"\",\"\",申込一覧表!E70)","v":""},10,{"$f":"IF(申込一覧表!W70=\"\",\"\",申込一覧表!W70)","v":""},{"$f":"IF(申込一覧表!G70=\"\",\"\",申込一覧表!G70)","v":""},{"$f":"IF(申込一覧表!K70=\"\",\"\",申込一覧表!K70&\" \"&申込一覧表!M70)","v":""},{"$f":"IF(申込一覧表!O70=\"\",\"\",申込一覧表!O70&\" \"&申込一覧表!Q70)","v":""},{"$f":"IF(申込一覧表!S70=\"\",\"\",申込一覧表!S70&\" \"&申込一覧表!U70)","v":""},null,{"$f":"IF(申込一覧表!H70=\"\",\"\",\"0\"&申込一覧表!H70)","v":""},{"$f":"IF(申込一覧表!I70=\"\",\"\",申込一覧表!I70)","v":""},{"$f":"IF(申込一覧表!J70=\"\",\"\",申込一覧表!J70)","v":""}]
[null,{"$f":"IF(申込一覧表!B71=\"\",\"\",IF(申込一覧表!C71=\"\",申込一覧表!B71,申込一覧表!B71&\"(\"&申込一覧表!C71&\")\"))","v":""},{"$f":"IF(申込一覧表!D71=\"\",\"\",申込一覧表!D71)","v":""},{"$f":"IF(申込一覧表!E71=\"\",\"\",申込一覧表!E71)","v":""},10,{"$f":"IF(申込一覧表!W71=\"\",\"\",申込一覧表!W71)","v":""},{"$f":"IF(申込一覧表!G71=\"\",\"\",申込一覧表!G71)","v":""},{"$f":"IF(申込一覧表!K71=\"\",\"\",申込一覧表!K71&\" \"&申込一覧表!M71)","v":""},{"$f":"IF(申込一覧表!O71=\"\",\"\",申込一覧表!O71&\" \"&申込一覧表!Q71)","v":""},{"$f":"IF(申込一覧表!S71=\"\",\"\",申込一覧表!S71&\" \"&申込一覧表!U71)","v":""},null,{"$f":"IF(申込一覧表!H71=\"\",\"\",\"0\"&申込一覧表!H71)","v":""},{"$f":"IF(申込一覧表!I71=\"\",\"\",申込一覧表!I71)","v":""},{"$f":"IF(申込一覧表!J71=\"\",\"\",申込一覧表!J71)","v":""}]
[null,{"$f":"IF(申込一覧表!B72=\"\",\"\",IF(申込一覧表!C72=\"\",申込一覧表!B72,申込一覧表!B72&\"(\"&申込一覧表!C72&\")\"))","v":""},{"$f":"IF(申込一覧表!D72=\"\",\"\",申込一覧表!D72)","v":""},{"$f":"IF(申込一覧表!E72=\"\",\"\",申込一覧表!E72)","v":""},10,{"$f":"IF(申込一覧表!W72=\"\",\"\",申込一覧表!W72)","v":""},{"$f":"IF(申込一覧表!G72=\"\",\"\",申込一覧表!G72)","v":""},{"$f":"IF(申込一覧表!K72=\"\",\"\",申込一覧表!K72&\" \"&申込一覧表!M72)","v":""},{"$f":"IF(申込一覧表!O72=\"\",\"\",申込一覧表!O72&\" \"&申込一覧表!Q72)","v":""},{"$f":"IF(申込一覧表!S72=\"\",\"\",申込一覧表!S72&\" \"&申込一覧表!U72)","v":""},null,{"$f":"IF(申込一覧表!H72=\"\",\"\",\"0\"&申込一覧表!H72)","v":""},{"$f":"IF(申込一覧表!I72=\"\",\"\",申込一覧表!I72)","v":""},{"$f":"IF(申込一覧表!J72=\"\",\"\",申込一覧表!J72)","v":""}]
[null,{"$f":"IF(申込一覧表!B73=\"\",\"\",IF(申込一覧表!C73=\"\",申込一覧表!B73,申込一覧表!B73&\"(\"&申込一覧表!C73&\")\"))","v":""},{"$f":"IF(申込一覧表!D73=\"\",\"\",申込一覧表!D73)","v":""},{"$f":"IF(申込一覧表!E73=\"\",\"\",申込一覧表!E73)","v":""},10,{"$f":"IF(申込一覧表!W73=\"\",\"\",申込一覧表!W73)","v":""},{"$f":"IF(申込一覧表!G73=\"\",\"\",申込一覧表!G73)","v":""},{"$f":"IF(申込一覧表!K73=\"\",\"\",申込一覧表!K73&\" \"&申込一覧表!M73)","v":""},{"$f":"IF(申込一覧表!O73=\"\",\"\",申込一覧表!O73&\" \"&申込一覧表!Q73)","v":""},{"$f":"IF(申込一覧表!S73=\"\",\"\",申込一覧表!S73&\" \"&申込一覧表!U73)","v":""},null,{"$f":"IF(申込一覧表!H73=\"\",\"\",\"0\"&申込一覧表!H73)","v":""},{"$f":"IF(申込一覧表!I73=\"\",\"\",申込一覧表!I73)","v":""},{"$f":"IF(申込一覧表!J73=\"\",\"\",申込一覧表!J73)","v":""}]
[null,{"$f":"IF(申込一覧表!B74=\"\",\"\",IF(申込一覧表!C74=\"\",申込一覧表!B74,申込一覧表!B74&\"(\"&申込一覧表!C74&\")\"))","v":""},{"$f":"IF(申込一覧表!D74=\"\",\"\",申込一覧表!D74)","v":""},{"$f":"IF(申込一覧表!E74=\"\",\"\",申込一覧表!E74)","v":""},10,{"$f":"IF(申込一覧表!W74=\"\",\"\",申込一覧表!W74)","v":""},{"$f":"IF(申込一覧表!G74=\"\",\"\",申込一覧表!G74)","v":""},{"$f":"IF(申込一覧表!K74=\"\",\"\",申込一覧表!K74&\" \"&申込一覧表!M74)","v":""},{"$f":"IF(申込一覧表!O74=\"\",\"\",申込一覧表!O74&\" \"&申込一覧表!Q74)","v":""},{"$f":"IF(申込一覧表!S74=\"\",\"\",申込一覧表!S74&\" \"&申込一覧表!U74)","v":""},null,{"$f":"IF(申込一覧表!H74=\"\",\"\",\"0\"&申込一覧表!H74)","v":""},{"$f":"IF(申込一覧表!I74=\"\",\"\",申込一覧表!I74)","v":""},{"$f":"IF(申込一覧表!J74=\"\",\"\",申込一覧表!J74)","v":""}]
[null,{"$f":"IF(申込一覧表!B75=\"\",\"\",IF(申込一覧表!C75=\"\",申込一覧表!B75,申込一覧表!B75&\"(\"&申込一覧表!C75&\")\"))","v":""},{"$f":"IF(申込一覧表!D75=\"\",\"\",申込一覧表!D75)","v":""},{"$f":"IF(申込一覧表!E75=\"\",\"\",申込一覧表!E75)","v":""},10,{"$f":"IF(申込一覧表!W75=\"\",\"\",申込一覧表!W75)","v":""},{"$f":"IF(申込一覧表!G75=\"\",\"\",申込一覧表!G75)","v":""},{"$f":"IF(申込一覧表!K75=\"\",\"\",申込一覧表!K75&\" \"&申込一覧表!M75)","v":""},{"$f":"IF(申込一覧表!O75=\"\",\"\",申込一覧表!O75&\" \"&申込一覧表!Q75)","v":""},{"$f":"IF(申込一覧表!S75=\"\",\"\",申込一覧表!S75&\" \"&申込一覧表!U75)","v":""},null,{"$f":"IF(申込一覧表!H75=\"\",\"\",\"0\"&申込一覧表!H75)","v":""},{"$f":"IF(申込一覧表!I75=\"\",\"\",申込一覧表!I75)","v":""},{"$f":"IF(申込一覧表!J75=\"\",\"\",申込一覧表!J75)","v":""}]
[null,{"$f":"IF(申込一覧表!B76=\"\",\"\",IF(申込一覧表!C76=\"\",申込一覧表!B76,申込一覧表!B76&\"(\"&申込一覧表!C76&\")\"))","v":""},{"$f":"IF(申込一覧表!D76=\"\",\"\",申込一覧表!D76)","v":""},{"$f":"IF(申込一覧表!E76=\"\",\"\",申込一覧表!E76)","v":""},10,{"$f":"IF(申込一覧表!W76=\"\",\"\",申込一覧表!W76)","v":""},{"$f":"IF(申込一覧表!G76=\"\",\"\",申込一覧表!G76)","v":""},{"$f":"IF(申込一覧表!K76=\"\",\"\",申込一覧表!K76&\" \"&申込一覧表!M76)","v":""},{"$f":"IF(申込一覧表!O76=\"\",\"\",申込一覧表!O76&\" \"&申込一覧表!Q76)","v":""},{"$f":"IF(申込一覧表!S76=\"\",\"\",申込一覧表!S76&\" \"&申込一覧表!U76)","v":""},null,{"$f":"IF(申込一覧表!H76=\"\",\"\",\"0\"&申込一覧表!H76)","v":""},{"$f":"IF(申込一覧表!I76=\"\",\"\",申込一覧表!I76)","v":""},{"$f":"IF(申込一覧表!J76=\"\",\"\",申込一覧表!J76)","v":""}]
[null,{"$f":"IF(申込一覧表!B77=\"\",\"\",IF(申込一覧表!C77=\"\",申込一覧表!B77,申込一覧表!B77&\"(\"&申込一覧表!C77&\")\"))","v":""},{"$f":"IF(申込一覧表!D77=\"\",\"\",申込一覧表!D77)","v":""},{"$f":"IF(申込一覧表!E77=\"\",\"\",申込一覧表!E77)","v":""},10,{"$f":"IF(申込一覧表!W77=\"\",\"\",申込一覧表!W77)","v":""},{"$f":"IF(申込一覧表!G77=\"\",\"\",申込一覧表!G77)","v":""},{"$f":"IF(申込一覧表!K77=\"\",\"\",申込一覧表!K77&\" \"&申込一覧表!M77)","v":""},{"$f":"IF(申込一覧表!O77=\"\",\"\",申込一覧表!O77&\" \"&申込一覧表!Q77)","v":""},{"$f":"IF(申込一覧表!S77=\"\",\"\",申込一覧表!S77&\" \"&申込一覧表!U77)","v":""},null,{"$f":"IF(申込一覧表!H77=\"\",\"\",\"0\"&申込一覧表!H77)","v":""},{"$f":"IF(申込一覧表!I77=\"\",\"\",申込一覧表!I77)","v":""},{"$f":"IF(申込一覧表!J77=\"\",\"\",申込一覧表!J77)","v":""}]
[null,{"$f":"IF(申込一覧表!B78=\"\",\"\",IF(申込一覧表!C78=\"\",申込一覧表!B78,申込一覧表!B78&\"(\"&申込一覧表!C78&\")\"))","v":""},{"$f":"IF(申込一覧表!D78=\"\",\"\",申込一覧表!D78)","v":""},{"$f":"IF(申込一覧表!E78=\"\",\"\",申込一覧表!E78)","v":""},10,{"$f":"IF(申込一覧表!W78=\"\",\"\",申込一覧表!W78)","v":""},{"$f":"IF(申込一覧表!G78=\"\",\"\",申込一覧表!G78)","v":""},{"$f":"IF(申込一覧表!K78=\"\",\"\",申込一覧表!K78&\" \"&申込一覧表!M78)","v":""},{"$f":"IF(申込一覧表!O78=\"\",\"\",申込一覧表!O78&\" \"&申込一覧表!Q78)","v":""},{"$f":"IF(申込一覧表!S78=\"\",\"\",申込一覧表!S78&\" \"&申込一覧表!U78)","v":""},null,{"$f":"IF(申込一覧表!H78=\"\",\"\",\"0\"&申込一覧表!H78)","v":""},{"$f":"IF(申込一覧表!I78=\"\",\"\",申込一覧表!I78)","v":""},{"$f":"IF(申込一覧表!J78=\"\",\"\",申込一覧表!J78)","v":""}]
[null,{"$f":"IF(申込一覧表!B79=\"\",\"\",IF(申込一覧表!C79=\"\",申込一覧表!B79,申込一覧表!B79&\"(\"&申込一覧表!C79&\")\"))","v":""},{"$f":"IF(申込一覧表!D79=\"\",\"\",申込一覧表!D79)","v":""},{"$f":"IF(申込一覧表!E79=\"\",\"\",申込一覧表!E79)","v":""},10,{"$f":"IF(申込一覧表!W79=\"\",\"\",申込一覧表!W79)","v":""},{"$f":"IF(申込一覧表!G79=\"\",\"\",申込一覧表!G79)","v":""},{"$f":"IF(申込一覧表!K79=\"\",\"\",申込一覧表!K79&\" \"&申込一覧表!M79)","v":""},{"$f":"IF(申込一覧表!O79=\"\",\"\",申込一覧表!O79&\" \"&申込一覧表!Q79)","v":""},{"$f":"IF(申込一覧表!S79=\"\",\"\",申込一覧表!S79&\" \"&申込一覧表!U79)","v":""},null,{"$f":"IF(申込一覧表!H79=\"\",\"\",\"0\"&申込一覧表!H79)","v":""},{"$f":"IF(申込一覧表!I79=\"\",\"\",申込一覧表!I79)","v":""},{"$f":"IF(申込一覧表!J79=\"\",\"\",申込一覧表!J79)","v":""}]
[null,{"$f":"IF(申込一覧表!B80=\"\",\"\",IF(申込一覧表!C80=\"\",申込一覧表!B80,申込一覧表!B80&\"(\"&申込一覧表!C80&\")\"))","v":""},{"$f":"IF(申込一覧表!D80=\"\",\"\",申込一覧表!D80)","v":""},{"$f":"IF(申込一覧表!E80=\"\",\"\",申込一覧表!E80)","v":""},10,{"$f":"IF(申込一覧表!W80=\"\",\"\",申込一覧表!W80)","v":""},{"$f":"IF(申込一覧表!G80=\"\",\"\",申込一覧表!G80)","v":""},{"$f":"IF(申込一覧表!K80=\"\",\"\",申込一覧表!K80&\" \"&申込一覧表!M80)","v":""},{"$f":"IF(申込一覧表!O80=\"\",\"\",申込一覧表!O80&\" \"&申込一覧表!Q80)","v":""},{"$f":"IF(申込一覧表!S80=\"\",\"\",申込一覧表!S80&\" \"&申込一覧表!U80)","v":""},null,{"$f":"IF(申込一覧表!H80=\"\",\"\",\"0\"&申込一覧表!H80)","v":""},{"$f":"IF(申込一覧表!I80=\"\",\"\",申込一覧表!I80)","v":""},{"$f":"IF(申込一覧表!J80=\"\",\"\",申込一覧表!J80)","v":""}]
[null,{"$f":"IF(申込一覧表!B81=\"\",\"\",IF(申込一覧表!C81=\"\",申込一覧表!B81,申込一覧表!B81&\"(\"&申込一覧表!C81&\")\"))","v":""},{"$f":"IF(申込一覧表!D81=\"\",\"\",申込一覧表!D81)","v":""},{"$f":"IF(申込一覧表!E81=\"\",\"\",申込一覧表!E81)","v":""},10,{"$f":"IF(申込一覧表!W81=\"\",\"\",申込一覧表!W81)","v":""},{"$f":"IF(申込一覧表!G81=\"\",\"\",申込一覧表!G81)","v":""},{"$f":"IF(申込一覧表!K81=\"\",\"\",申込一覧表!K81&\" \"&申込一覧表!M81)","v":""},{"$f":"IF(申込一覧表!O81=\"\",\"\",申込一覧表!O81&\" \"&申込一覧表!Q81)","v":""},{"$f":"IF(申込一覧表!S81=\"\",\"\",申込一覧表!S81&\" \"&申込一覧表!U81)","v":""},null,{"$f":"IF(申込一覧表!H81=\"\",\"\",\"0\"&申込一覧表!H81)","v":""},{"$f":"IF(申込一覧表!I81=\"\",\"\",申込一覧表!I81)","v":""},{"$f":"IF(申込一覧表!J81=\"\",\"\",申込一覧表!J81)","v":""}]
[null,{"$f":"IF(申込一覧表!B82=\"\",\"\",IF(申込一覧表!C82=\"\",申込一覧表!B82,申込一覧表!B82&\"(\"&申込一覧表!C82&\")\"))","v":""},{"$f":"IF(申込一覧表!D82=\"\",\"\",申込一覧表!D82)","v":""},{"$f":"IF(申込一覧表!E82=\"\",\"\",申込一覧表!E82)","v":""},10,{"$f":"IF(申込一覧表!W82=\"\",\"\",申込一覧表!W82)","v":""},{"$f":"IF(申込一覧表!G82=\"\",\"\",申込一覧表!G82)","v":""},{"$f":"IF(申込一覧表!K82=\"\",\"\",申込一覧表!K82&\" \"&申込一覧表!M82)","v":""},{"$f":"IF(申込一覧表!O82=\"\",\"\",申込一覧表!O82&\" \"&申込一覧表!Q82)","v":""},{"$f":"IF(申込一覧表!S82=\"\",\"\",申込一覧表!S82&\" \"&申込一覧表!U82)","v":""},null,{"$f":"IF(申込一覧表!H82=\"\",\"\",\"0\"&申込一覧表!H82)","v":""},{"$f":"IF(申込一覧表!I82=\"\",\"\",申込一覧表!I82)","v":""},{"$f":"IF(申込一覧表!J82=\"\",\"\",申込一覧表!J82)","v":""}]
[null,{"$f":"IF(申込一覧表!B83=\"\",\"\",IF(申込一覧表!C83=\"\",申込一覧表!B83,申込一覧表!B83&\"(\"&申込一覧表!C83&\")\"))","v":""},{"$f":"IF(申込一覧表!D83=\"\",\"\",申込一覧表!D83)","v":""},{"$f":"IF(申込一覧表!E83=\"\",\"\",申込一覧表!E83)","v":""},10,{"$f":"IF(申込一覧表!W83=\"\",\"\",申込一覧表!W83)","v":""},{"$f":"IF(申込一覧表!G83=\"\",\"\",申込一覧表!G83)","v":""},{"$f":"IF(申込一覧表!K83=\"\",\"\",申込一覧表!K83&\" \"&申込一覧表!M83)","v":""},{"$f":"IF(申込一覧表!O83=\"\",\"\",申込一覧表!O83&\" \"&申込一覧表!Q83)","v":""},{"$f":"IF(申込一覧表!S83=\"\",\"\",申込一覧表!S83&\" \"&申込一覧表!U83)","v":""},null,{"$f":"IF(申込一覧表!H83=\"\",\"\",\"0\"&申込一覧表!H83)","v":""},{"$f":"IF(申込一覧表!I83=\"\",\"\",申込一覧表!I83)","v":""},{"$f":"IF(申込一覧表!J83=\"\",\"\",申込一覧表!J83)","v":""}]
[null,{"$f":"IF(申込一覧表!B84=\"\",\"\",IF(申込一覧表!C84=\"\",申込一覧表!B84,申込一覧表!B84&\"(\"&申込一覧表!C84&\")\"))","v":""},{"$f":"IF(申込一覧表!D84=\"\",\"\",申込一覧表!D84)","v":""},{"$f":"IF(申込一覧表!E84=\"\",\"\",申込一覧表!E84)","v":""},10,{"$f":"IF(申込一覧表!W84=\"\",\"\",申込一覧表!W84)","v":""},{"$f":"IF(申込一覧表!G84=\"\",\"\",申込一覧表!G84)","v":""},{"$f":"IF(申込一覧表!K84=\"\",\"\",申込一覧表!K84&\" \"&申込一覧表!M84)","v":""},{"$f":"IF(申込一覧表!O84=\"\",\"\",申込一覧表!O84&\" \"&申込一覧表!Q84)","v":""},{"$f":"IF(申込一覧表!S84=\"\",\"\",申込一覧表!S84&\" \"&申込一覧表!U84)","v":""},null,{"$f":"IF(申込一覧表!H84=\"\",\"\",\"0\"&申込一覧表!H84)","v":""},{"$f":"IF(申込一覧表!I84=\"\",\"\",申込一覧表!I84)","v":""},{"$f":"IF(申込一覧表!J84=\"\",\"\",申込一覧表!J84)","v":""}]
[null,{"$f":"IF(申込一覧表!B85=\"\",\"\",IF(申込一覧表!C85=\"\",申込一覧表!B85,申込一覧表!B85&\"(\"&申込一覧表!C85&\")\"))","v":""},{"$f":"IF(申込一覧表!D85=\"\",\"\",申込一覧表!D85)","v":""},{"$f":"IF(申込一覧表!E85=\"\",\"\",申込一覧表!E85)","v":""},10,{"$f":"IF(申込一覧表!W85=\"\",\"\",申込一覧表!W85)","v":""},{"$f":"IF(申込一覧表!G85=\"\",\"\",申込一覧表!G85)","v":""},{"$f":"IF(申込一覧表!K85=\"\",\"\",申込一覧表!K85&\" \"&申込一覧表!M85)","v":""},{"$f":"IF(申込一覧表!O85=\"\",\"\",申込一覧表!O85&\" \"&申込一覧表!Q85)","v":""},{"$f":"IF(申込一覧表!S85=\"\",\"\",申込一覧表!S85&\" \"&申込一覧表!U85)","v":""},null,{"$f":"IF(申込一覧表!H85=\"\",\"\",\"0\"&申込一覧表!H85)","v":""},{"$f":"IF(申込一覧表!I85=\"\",\"\",申込一覧表!I85)","v":""},{"$f":"IF(申込一覧表!J85=\"\",\"\",申込一覧表!J85)","v":""}]
[null,{"$f":"IF(申込一覧表!B86=\"\",\"\",IF(申込一覧表!C86=\"\",申込一覧表!B86,申込一覧表!B86&\"(\"&申込一覧表!C86&\")\"))","v":""},{"$f":"IF(申込一覧表!D86=\"\",\"\",申込一覧表!D86)","v":""},{"$f":"IF(申込一覧表!E86=\"\",\"\",申込一覧表!E86)","v":""},10,{"$f":"IF(申込一覧表!W86=\"\",\"\",申込一覧表!W86)","v":""},{"$f":"IF(申込一覧表!G86=\"\",\"\",申込一覧表!G86)","v":""},{"$f":"IF(申込一覧表!K86=\"\",\"\",申込一覧表!K86&\" \"&申込一覧表!M86)","v":""},{"$f":"IF(申込一覧表!O86=\"\",\"\",申込一覧表!O86&\" \"&申込一覧表!Q86)","v":""},{"$f":"IF(申込一覧表!S86=\"\",\"\",申込一覧表!S86&\" \"&申込一覧表!U86)","v":""},null,{"$f":"IF(申込一覧表!H86=\"\",\"\",\"0\"&申込一覧表!H86)","v":""},{"$f":"IF(申込一覧表!I86=\"\",\"\",申込一覧表!I86)","v":""},{"$f":"IF(申込一覧表!J86=\"\",\"\",申込一覧表!J86)","v":""}]
[null,{"$f":"IF(申込一覧表!B87=\"\",\"\",IF(申込一覧表!C87=\"\",申込一覧表!B87,申込一覧表!B87&\"(\"&申込一覧表!C87&\")\"))","v":""},{"$f":"IF(申込一覧表!D87=\"\",\"\",申込一覧表!D87)","v":""},{"$f":"IF(申込一覧表!E87=\"\",\"\",申込一覧表!E87)","v":""},10,{"$f":"IF(申込一覧表!W87=\"\",\"\",申込一覧表!W87)","v":""},{"$f":"IF(申込一覧表!G87=\"\",\"\",申込一覧表!G87)","v":""},{"$f":"IF(申込一覧表!K87=\"\",\"\",申込一覧表!K87&\" \"&申込一覧表!M87)","v":""},{"$f":"IF(申込一覧表!O87=\"\",\"\",申込一覧表!O87&\" \"&申込一覧表!Q87)","v":""},{"$f":"IF(申込一覧表!S87=\"\",\"\",申込一覧表!S87&\" \"&申込一覧表!U87)","v":""},null,{"$f":"IF(申込一覧表!H87=\"\",\"\",\"0\"&申込一覧表!H87)","v":""},{"$f":"IF(申込一覧表!I87=\"\",\"\",申込一覧表!I87)","v":""},{"$f":"IF(申込一覧表!J87=\"\",\"\",申込一覧表!J87)","v":""}]
[null,{"$f":"IF(申込一覧表!B88=\"\",\"\",IF(申込一覧表!C88=\"\",申込一覧表!B88,申込一覧表!B88&\"(\"&申込一覧表!C88&\")\"))","v":""},{"$f":"IF(申込一覧表!D88=\"\",\"\",申込一覧表!D88)","v":""},{"$f":"IF(申込一覧表!E88=\"\",\"\",申込一覧表!E88)","v":""},10,{"$f":"IF(申込一覧表!W88=\"\",\"\",申込一覧表!W88)","v":""},{"$f":"IF(申込一覧表!G88=\"\",\"\",申込一覧表!G88)","v":""},{"$f":"IF(申込一覧表!K88=\"\",\"\",申込一覧表!K88&\" \"&申込一覧表!M88)","v":""},{"$f":"IF(申込一覧表!O88=\"\",\"\",申込一覧表!O88&\" \"&申込一覧表!Q88)","v":""},{"$f":"IF(申込一覧表!S88=\"\",\"\",申込一覧表!S88&\" \"&申込一覧表!U88)","v":""},null,{"$f":"IF(申込一覧表!H88=\"\",\"\",\"0\"&申込一覧表!H88)","v":""},{"$f":"IF(申込一覧表!I88=\"\",\"\",申込一覧表!I88)","v":""},{"$f":"IF(申込一覧表!J88=\"\",\"\",申込一覧表!J88)","v":""}]
[null,{"$f":"IF(申込一覧表!B89=\"\",\"\",IF(申込一覧表!C89=\"\",申込一覧表!B89,申込一覧表!B89&\"(\"&申込一覧表!C89&\")\"))","v":""},{"$f":"IF(申込一覧表!D89=\"\",\"\",申込一覧表!D89)","v":""},{"$f":"IF(申込一覧表!E89=\"\",\"\",申込一覧表!E89)","v":""},10,{"$f":"IF(申込一覧表!W89=\"\",\"\",申込一覧表!W89)","v":""},{"$f":"IF(申込一覧表!G89=\"\",\"\",申込一覧表!G89)","v":""},{"$f":"IF(申込一覧表!K89=\"\",\"\",申込一覧表!K89&\" \"&申込一覧表!M89)","v":""},{"$f":"IF(申込一覧表!O89=\"\",\"\",申込一覧表!O89&\" \"&申込一覧表!Q89)","v":""},{"$f":"IF(申込一覧表!S89=\"\",\"\",申込一覧表!S89&\" \"&申込一覧表!U89)","v":""},null,{"$f":"IF(申込一覧表!H89=\"\",\"\",\"0\"&申込一覧表!H89)","v":""},{"$f":"IF(申込一覧表!I89=\"\",\"\",申込一覧表!I89)","v":""},{"$f":"IF(申込一覧表!J89=\"\",\"\",申込一覧表!J89)","v":""}]
[null,{"$f":"IF(申込一覧表!B90=\"\",\"\",IF(申込一覧表!C90=\"\",申込一覧表!B90,申込一覧表!B90&\"(\"&申込一覧表!C90&\")\"))","v":""},{"$f":"IF(申込一覧表!D90=\"\",\"\",申込一覧表!D90)","v":""},{"$f":"IF(申込一覧表!E90=\"\",\"\",申込一覧表!E90)","v":""},10,{"$f":"IF(申込一覧表!W90=\"\",\"\",申込一覧表!W90)","v":""},{"$f":"IF(申込一覧表!G90=\"\",\"\",申込一覧表!G90)","v":""},{"$f":"IF(申込一覧表!K90=\"\",\"\",申込一覧表!K90&\" \"&申込一覧表!M90)","v":""},{"$f":"IF(申込一覧表!O90=\"\",\"\",申込一覧表!O90&\" \"&申込一覧表!Q90)","v":""},{"$f":"IF(申込一覧表!S90=\"\",\"\",申込一覧表!S90&\" \"&申込一覧表!U90)","v":""},null,{"$f":"IF(申込一覧表!H90=\"\",\"\",\"0\"&申込一覧表!H90)","v":""},{"$f":"IF(申込一覧表!I90=\"\",\"\",申込一覧表!I90)","v":""},{"$f":"IF(申込一覧表!J90=\"\",\"\",申込一覧表!J90)","v":""}]
[null,{"$f":"IF(申込一覧表!B91=\"\",\"\",IF(申込一覧表!C91=\"\",申込一覧表!B91,申込一覧表!B91&\"(\"&申込一覧表!C91&\")\"))","v":""},{"$f":"IF(申込一覧表!D91=\"\",\"\",申込一覧表!D91)","v":""},{"$f":"IF(申込一覧表!E91=\"\",\"\",申込一覧表!E91)","v":""},10,{"$f":"IF(申込一覧表!W91=\"\",\"\",申込一覧表!W91)","v":""},{"$f":"IF(申込一覧表!G91=\"\",\"\",申込一覧表!G91)","v":""},{"$f":"IF(申込一覧表!K91=\"\",\"\",申込一覧表!K91&\" \"&申込一覧表!M91)","v":""},{"$f":"IF(申込一覧表!O91=\"\",\"\",申込一覧表!O91&\" \"&申込一覧表!Q91)","v":""},{"$f":"IF(申込一覧表!S91=\"\",\"\",申込一覧表!S91&\" \"&申込一覧表!U91)","v":""},null,{"$f":"IF(申込一覧表!H91=\"\",\"\",\"0\"&申込一覧表!H91)","v":""},{"$f":"IF(申込一覧表!I91=\"\",\"\",申込一覧表!I91)","v":""},{"$f":"IF(申込一覧表!J91=\"\",\"\",申込一覧表!J91)","v":""}]
[null,{"$f":"IF(申込一覧表!B92=\"\",\"\",IF(申込一覧表!C92=\"\",申込一覧表!B92,申込一覧表!B92&\"(\"&申込一覧表!C92&\")\"))","v":""},{"$f":"IF(申込一覧表!D92=\"\",\"\",申込一覧表!D92)","v":""},{"$f":"IF(申込一覧表!E92=\"\",\"\",申込一覧表!E92)","v":""},10,{"$f":"IF(申込一覧表!W92=\"\",\"\",申込一覧表!W92)","v":""},{"$f":"IF(申込一覧表!G92=\"\",\"\",申込一覧表!G92)","v":""},{"$f":"IF(申込一覧表!K92=\"\",\"\",申込一覧表!K92&\" \"&申込一覧表!M92)","v":""},{"$f":"IF(申込一覧表!O92=\"\",\"\",申込一覧表!O92&\" \"&申込一覧表!Q92)","v":""},{"$f":"IF(申込一覧表!S92=\"\",\"\",申込一覧表!S92&\" \"&申込一覧表!U92)","v":""},null,{"$f":"IF(申込一覧表!H92=\"\",\"\",\"0\"&申込一覧表!H92)","v":""},{"$f":"IF(申込一覧表!I92=\"\",\"\",申込一覧表!I92)","v":""},{"$f":"IF(申込一覧表!J92=\"\",\"\",申込一覧表!J92)","v":""}]
[null,{"$f":"IF(申込一覧表!B93=\"\",\"\",IF(申込一覧表!C93=\"\",申込一覧表!B93,申込一覧表!B93&\"(\"&申込一覧表!C93&\")\"))","v":""},{"$f":"IF(申込一覧表!D93=\"\",\"\",申込一覧表!D93)","v":""},{"$f":"IF(申込一覧表!E93=\"\",\"\",申込一覧表!E93)","v":""},10,{"$f":"IF(申込一覧表!W93=\"\",\"\",申込一覧表!W93)","v":""},{"$f":"IF(申込一覧表!G93=\"\",\"\",申込一覧表!G93)","v":""},{"$f":"IF(申込一覧表!K93=\"\",\"\",申込一覧表!K93&\" \"&申込一覧表!M93)","v":""},{"$f":"IF(申込一覧表!O93=\"\",\"\",申込一覧表!O93&\" \"&申込一覧表!Q93)","v":""},{"$f":"IF(申込一覧表!S93=\"\",\"\",申込一覧表!S93&\" \"&申込一覧表!U93)","v":""},null,{"$f":"IF(申込一覧表!H93=\"\",\"\",\"0\"&申込一覧表!H93)","v":""},{"$f":"IF(申込一覧表!I93=\"\",\"\",申込一覧表!I93)","v":""},{"$f":"IF(申込一覧表!J93=\"\",\"\",申込一覧表!J93)","v":""}]
[null,{"$f":"IF(申込一覧表!B94=\"\",\"\",IF(申込一覧表!C94=\"\",申込一覧表!B94,申込一覧表!B94&\"(\"&申込一覧表!C94&\")\"))","v":""},{"$f":"IF(申込一覧表!D94=\"\",\"\",申込一覧表!D94)","v":""},{"$f":"IF(申込一覧表!E94=\"\",\"\",申込一覧表!E94)","v":""},10,{"$f":"IF(申込一覧表!W94=\"\",\"\",申込一覧表!W94)","v":""},{"$f":"IF(申込一覧表!G94=\"\",\"\",申込一覧表!G94)","v":""},{"$f":"IF(申込一覧表!K94=\"\",\"\",申込一覧表!K94&\" \"&申込一覧表!M94)","v":""},{"$f":"IF(申込一覧表!O94=\"\",\"\",申込一覧表!O94&\" \"&申込一覧表!Q94)","v":""},{"$f":"IF(申込一覧表!S94=\"\",\"\",申込一覧表!S94&\" \"&申込一覧表!U94)","v":""},null,{"$f":"IF(申込一覧表!H94=\"\",\"\",\"0\"&申込一覧表!H94)","v":""},{"$f":"IF(申込一覧表!I94=\"\",\"\",申込一覧表!I94)","v":""},{"$f":"IF(申込一覧表!J94=\"\",\"\",申込一覧表!J94)","v":""}]
[null,{"$f":"IF(申込一覧表!B95=\"\",\"\",IF(申込一覧表!C95=\"\",申込一覧表!B95,申込一覧表!B95&\"(\"&申込一覧表!C95&\")\"))","v":""},{"$f":"IF(申込一覧表!D95=\"\",\"\",申込一覧表!D95)","v":""},{"$f":"IF(申込一覧表!E95=\"\",\"\",申込一覧表!E95)","v":""},10,{"$f":"IF(申込一覧表!W95=\"\",\"\",申込一覧表!W95)","v":""},{"$f":"IF(申込一覧表!G95=\"\",\"\",申込一覧表!G95)","v":""},{"$f":"IF(申込一覧表!K95=\"\",\"\",申込一覧表!K95&\" \"&申込一覧表!M95)","v":""},{"$f":"IF(申込一覧表!O95=\"\",\"\",申込一覧表!O95&\" \"&申込一覧表!Q95)","v":""},{"$f":"IF(申込一覧表!S95=\"\",\"\",申込一覧表!S95&\" \"&申込一覧表!U95)","v":""},null,{"$f":"IF(申込一覧表!H95=\"\",\"\",\"0\"&申込一覧表!H95)","v":""},{"$f":"IF(申込一覧表!I95=\"\",\"\",申込一覧表!I95)","v":""},{"$f":"IF(申込一覧表!J95=\"\",\"\",申込一覧表!J95)","v":""}]
[null,{"$f":"IF(申込一覧表!B96=\"\",\"\",IF(申込一覧表!C96=\"\",申込一覧表!B96,申込一覧表!B96&\"(\"&申込一覧表!C96&\")\"))","v":""},{"$f":"IF(申込一覧表!D96=\"\",\"\",申込一覧表!D96)","v":""},{"$f":"IF(申込一覧表!E96=\"\",\"\",申込一覧表!E96)","v":""},10,{"$f":"IF(申込一覧表!W96=\"\",\"\",申込一覧表!W96)","v":""},{"$f":"IF(申込一覧表!G96=\"\",\"\",申込一覧表!G96)","v":""},{"$f":"IF(申込一覧表!K96=\"\",\"\",申込一覧表!K96&\" \"&申込一覧表!M96)","v":""},{"$f":"IF(申込一覧表!O96=\"\",\"\",申込一覧表!O96&\" \"&申込一覧表!Q96)","v":""},{"$f":"IF(申込一覧表!S96=\"\",\"\",申込一覧表!S96&\" \"&申込一覧表!U96)","v":""},null,{"$f":"IF(申込一覧表!H96=\"\",\"\",\"0\"&申込一覧表!H96)","v":""},{"$f":"IF(申込一覧表!I96=\"\",\"\",申込一覧表!I96)","v":""},{"$f":"IF(申込一覧表!J96=\"\",\"\",申込一覧表!J96)","v":""}]
[null,{"$f":"IF(申込一覧表!B97=\"\",\"\",IF(申込一覧表!C97=\"\",申込一覧表!B97,申込一覧表!B97&\"(\"&申込一覧表!C97&\")\"))","v":""},{"$f":"IF(申込一覧表!D97=\"\",\"\",申込一覧表!D97)","v":""},{"$f":"IF(申込一覧表!E97=\"\",\"\",申込一覧表!E97)","v":""},10,{"$f":"IF(申込一覧表!W97=\"\",\"\",申込一覧表!W97)","v":""},{"$f":"IF(申込一覧表!G97=\"\",\"\",申込一覧表!G97)","v":""},{"$f":"IF(申込一覧表!K97=\"\",\"\",申込一覧表!K97&\" \"&申込一覧表!M97)","v":""},{"$f":"IF(申込一覧表!O97=\"\",\"\",申込一覧表!O97&\" \"&申込一覧表!Q97)","v":""},{"$f":"IF(申込一覧表!S97=\"\",\"\",申込一覧表!S97&\" \"&申込一覧表!U97)","v":""},null,{"$f":"IF(申込一覧表!H97=\"\",\"\",\"0\"&申込一覧表!H97)","v":""},{"$f":"IF(申込一覧表!I97=\"\",\"\",申込一覧表!I97)","v":""},{"$f":"IF(申込一覧表!J97=\"\",\"\",申込一覧表!J97)","v":""}]